Workbook

Sheet Лист1
A1: www.ДляЦветов.рф | B1: Клуб Настоящих ЦветоМанов РОСТОК | E1: rostok_vrn
CF2: Примерные размеры упаковки
A3: наименование | B3: размер | C3: кол. | D3: цена от 15000 | E3: цена от 25000 | F3: цена от 50000 | G3: стоимость | I3: ИТОГОВАЯ СУММА | CD3: вес | CE3: объем | CF3: размер | CG3: размер | CH3: размер | CI3: суммарный объем изделий | CJ3: суммарный вес изделий
A4: НА ПОДОКОННИК
A5: Березка_10 | B5: 1,2-1,3м | C5: 0 | D5: 1430 | E5: 1350 | F5: 1300 | G5: =Лист2!M5 -> 0 | I5: Итоговая сумма: | J5: =SUM(G4:G278) -> 350 | K5: руб | CD5: 3 | CE5: =PRODUCT(CF5,CG5,CH5) -> 0.0312 | CF5: 1.2 | CG5: 0.2 | CH5: 0.13 | CI5: =PRODUCT(CE5,C5) -> 0 | CJ5: =PRODUCT(CD5,C5) -> 0
A6: Распорная подставка на 10 держателей | B6: 1,3-1,4м | C6: 0 | D6: 1430 | E6: 1350 | F6: 1300 | G6: =Лист2!M6 -> 0 | CD6: 3 | CE6: =PRODUCT(CF6,CG6,CH6) -> 0.0312 | CF6: 1.2 | CG6: 0.2 | CH6: 0.13 | CI6: =PRODUCT(CE6,C6) -> 0 | CJ6: =PRODUCT(CD6,C6) -> 0
B7: 1,4-1,5м | C7: 0 | D7: 1430 | E7: 1350 | F7: 1300 | G7: =Лист2!M7 -> 0 | I7: Примерный вес Вашего заказа: | K7: =CJ267 -> 1 | CD7: 3 | CE7: =PRODUCT(CF7,CG7,CH7) -> 0.0312 | CF7: 1.2 | CG7: 0.2 | CH7: 0.13 | CI7: =PRODUCT(CE7,C7) -> 0 | CJ7: =PRODUCT(CD7,C7) -> 0
B8: 1,5-1,6м | C8: 0 | D8: 1430 | E8: 1350 | F8: 1300 | G8: =Лист2!M8 -> 0 | I8: Примерный объем Вашего заказа | K8: =CI267 -> 0 | CD8: 3 | CE8: =PRODUCT(CF8,CG8,CH8) -> 0.0312 | CF8: 1.2 | CG8: 0.2 | CH8: 0.13 | CI8: =PRODUCT(CE8,C8) -> 0 | CJ8: =PRODUCT(CD8,C8) -> 0
B9: 1,6-1,7м | C9: 0 | D9: 1430 | E9: 1350 | F9: 1300 | G9: =Лист2!M9 -> 0 | CD9: 3 | CE9: =PRODUCT(CF9,CG9,CH9) -> 0.0312 | CF9: 1.2 | CG9: 0.2 | CH9: 0.13 | CI9: =PRODUCT(CE9,C9) -> 0 | CJ9: =PRODUCT(CD9,C9) -> 0
B10: под заказ | C10: 0 | D10: 1430 | E10: 1350 | F10: 1300 | G10: =Лист2!M10 -> 0 | I10: *общая стоимость товаров 2ой и 3ей колонки | CD10: 3 | CE10: =PRODUCT(CF10,CG10,CH10) -> 0.0312 | CF10: 1.2 | CG10: 0.2 | CH10: 0.13 | CI10: =PRODUCT(CE10,C10) -> 0 | CJ10: =PRODUCT(CD10,C10) -> 0
C11: 0 | G11: =Лист2!M11 -> 0 | I11: считается по ценам соответствующей колонки | CD11: 0 | CE11: =PRODUCT(CF11,CG11,CH11) -> 0 | CI11: =PRODUCT(CE11,C11) -> 0 | CJ11: =PRODUCT(CD11,C11) -> 0
A12: Березка_10наклон | B12: 1,2-1,3м | C12: 0 | D12: 1680 | E12: 1610 | F12: 1550 | G12: =Лист2!M12 -> 0 | I12: То есть, чтобы цены заказа попали во вторую колонку, | CD12: 3 | CE12: =PRODUCT(CF12,CG12,CH12) -> 0.0312 | CF12: 1.2 | CG12: 0.2 | CH12: 0.13 | CI12: =PRODUCT(CE12,C12) -> 0 | CJ12: =PRODUCT(CD12,C12) -> 0
A13: Распорная подставка на 10 держателей, | B13: 1,3-1,4м | C13: 0 | D13: 1680 | E13: 1610 | F13: 1500 | G13: =Лист2!M13 -> 0 | I13: 25000 должно быть достигнуто по ценам второй колонки | CD13: 3 | CE13: =PRODUCT(CF13,CG13,CH13) -> 0.0312 | CF13: 1.2 | CG13: 0.2 | CH13: 0.13 | CI13: =PRODUCT(CE13,C13) -> 0 | CJ13: =PRODUCT(CD13,C13) -> 0
A14: если верний откос под наклоном | B14: 1,4-1,5м | C14: 0 | D14: 1680 | E14: 1610 | F14: 1500 | G14: =Лист2!M14 -> 0 | CD14: 3 | CE14: =PRODUCT(CF14,CG14,CH14) -> 0.0312 | CF14: 1.2 | CG14: 0.2 | CH14: 0.13 | CI14: =PRODUCT(CE14,C14) -> 0 | CJ14: =PRODUCT(CD14,C14) -> 0
B15: 1,5-1,6м | C15: 0 | D15: 1680 | E15: 1610 | F15: 1500 | G15: =Лист2!M15 -> 0 | CD15: 3 | CE15: =PRODUCT(CF15,CG15,CH15) -> 0.0312 | CF15: 1.2 | CG15: 0.2 | CH15: 0.13 | CI15: =PRODUCT(CE15,C15) -> 0 | CJ15: =PRODUCT(CD15,C15) -> 0
B16: 1,6-1,7м | C16: 0 | D16: 1680 | E16: 1610 | F16: 1500 | G16: =Лист2!M16 -> 0 | CD16: 3 | CE16: =PRODUCT(CF16,CG16,CH16) -> 0.0312 | CF16: 1.2 | CG16: 0.2 | CH16: 0.13 | CI16: =PRODUCT(CE16,C16) -> 0 | CJ16: =PRODUCT(CD16,C16) -> 0
B17: под заказ | C17: 0 | D17: 1880 | E17: 1710 | F17: 1700 | G17: =Лист2!M17 -> 0 | CD17: 3 | CE17: =PRODUCT(CF17,CG17,CH17) -> 0.0312 | CF17: 1.2 | CG17: 0.2 | CH17: 0.13 | CI17: =PRODUCT(CE17,C17) -> 0 | CJ17: =PRODUCT(CD17,C17) -> 0
C18: 0 | G18: =Лист2!M18 -> 0 | CD18: 0 | CE18: =PRODUCT(CF18,CG18,CH18) -> 0 | CI18: =PRODUCT(CE18,C18) -> 0 | CJ18: =PRODUCT(CD18,C18) -> 0
A19: Осина_5 | B19: 1,2-1,3м | C19: 0 | D19: 1240 | E19: 1140 | F19: 1090 | G19: =Лист2!M19 -> 0 | I19: УСЛОВИЯ ДОСТАВКИ | CD19: 3 | CE19: =PRODUCT(CF19,CG19,CH19) -> 0.0312 | CF19: 1.2 | CG19: 0.2 | CH19: 0.13 | CI19: =PRODUCT(CE19,C19) -> 0 | CJ19: =PRODUCT(CD19,C19) -> 0
A20: Распорная подставка на 5 держателей, | B20: 1,3-1,4м | C20: 0 | D20: 1240 | E20: 1140 | F20: 1090 | G20: =Лист2!M20 -> 0 | CD20: 3 | CE20: =PRODUCT(CF20,CG20,CH20) -> 0.0312 | CF20: 1.2 | CG20: 0.2 | CH20: 0.13 | CI20: =PRODUCT(CE20,C20) -> 0 | CJ20: =PRODUCT(CD20,C20) -> 0
A21: для крупных растений | B21: 1,4-1,5м | C21: 0 | D21: 1240 | E21: 1140 | F21: 1090 | G21: =Лист2!M21 -> 0 | I21: Доставка осуществлятся транспортными компаниями | CD21: 3 | CE21: =PRODUCT(CF21,CG21,CH21) -> 0.0312 | CF21: 1.2 | CG21: 0.2 | CH21: 0.13 | CI21: =PRODUCT(CE21,C21) -> 0 | CJ21: =PRODUCT(CD21,C21) -> 0
B22: 1,5-1,6м | C22: 0 | D22: 1240 | E22: 1140 | F22: 1090 | G22: =Лист2!M22 -> 0 | CD22: 3 | CE22: =PRODUCT(CF22,CG22,CH22) -> 0.0312 | CF22: 1.2 | CG22: 0.2 | CH22: 0.13 | CI22: =PRODUCT(CE22,C22) -> 0 | CJ22: =PRODUCT(CD22,C22) -> 0
B23: 1,6-1,7м | C23: 0 | D23: 1240 | E23: 1140 | F23: 1090 | G23: =Лист2!M23 -> 0 | I23: Доставка до терминала ТК ПЭК | CD23: 3 | CE23: =PRODUCT(CF23,CG23,CH23) -> 0.0312 | CF23: 1.2 | CG23: 0.2 | CH23: 0.13 | CI23: =PRODUCT(CE23,C23) -> 0 | CJ23: =PRODUCT(CD23,C23) -> 0
B24: под заказ | C24: 0 | D24: 1440 | E24: 1340 | F24: 1290 | G24: =Лист2!M24 -> 0 | J24: заказы от 15000 | K24: 350 | CD24: 3 | CE24: =PRODUCT(CF24,CG24,CH24) -> 0.0312 | CF24: 1.2 | CG24: 0.2 | CH24: 0.13 | CI24: =PRODUCT(CE24,C24) -> 0 | CJ24: =PRODUCT(CD24,C24) -> 0
C25: 0 | G25: =Лист2!M25 -> 0 | J25: заказы от 25000 | K25: 450 | CD25: 0 | CE25: =PRODUCT(CF25,CG25,CH25) -> 0 | CI25: =PRODUCT(CE25,C25) -> 0 | CJ25: =PRODUCT(CD25,C25) -> 0
A26: Осина_5наклон | B26: 1,2-1,3м | C26: 0 | D26: 1490 | E26: 1300 | F26: 1250 | G26: =Лист2!M26 -> 0 | J26: заказы от 50000 | K26: 500 | CD26: 3 | CE26: =PRODUCT(CF26,CG26,CH26) -> 0.0312 | CF26: 1.2 | CG26: 0.2 | CH26: 0.13 | CI26: =PRODUCT(CE26,C26) -> 0 | CJ26: =PRODUCT(CD26,C26) -> 0
A27: Распорная подставка на 5 держателей, | B27: 1,3-1,4м | C27: 0 | D27: 1490 | E27: 1300 | F27: 1250 | G27: =Лист2!M27 -> 0 | J27: заказы от 80000 | K27: 700 | CD27: 3 | CE27: =PRODUCT(CF27,CG27,CH27) -> 0.0312 | CF27: 1.2 | CG27: 0.2 | CH27: 0.13 | CI27: =PRODUCT(CE27,C27) -> 0 | CJ27: =PRODUCT(CD27,C27) -> 0
A28: для крупных растений | B28: 1,4-1,5м | C28: 0 | D28: 1490 | E28: 1300 | F28: 1250 | G28: =Лист2!M28 -> 0 | J28: заказы от 100000 | K28: 1200 | CD28: 3 | CE28: =PRODUCT(CF28,CG28,CH28) -> 0.0312 | CF28: 1.2 | CG28: 0.2 | CH28: 0.13 | CI28: =PRODUCT(CE28,C28) -> 0 | CJ28: =PRODUCT(CD28,C28) -> 0
A29: если верхний откос под наклоном | B29: 1,5-1,6м | C29: 0 | D29: 1490 | E29: 1300 | F29: 1250 | G29: =Лист2!M29 -> 0 | CD29: 3 | CE29: =PRODUCT(CF29,CG29,CH29) -> 0.0312 | CF29: 1.2 | CG29: 0.2 | CH29: 0.13 | CI29: =PRODUCT(CE29,C29) -> 0 | CJ29: =PRODUCT(CD29,C29) -> 0
B30: 1,6-1,7м | C30: 0 | D30: 1490 | E30: 1300 | F30: 1250 | G30: =Лист2!M30 -> 0 | I30: Доставка до терминала ТК ЭНЕРГИЯ, ДЕЛОВЫЕ ЛИНИИ, | CD30: 3 | CE30: =PRODUCT(CF30,CG30,CH30) -> 0.0312 | CF30: 1.2 | CG30: 0.2 | CH30: 0.13 | CI30: =PRODUCT(CE30,C30) -> 0 | CJ30: =PRODUCT(CD30,C30) -> 0
B31: под заказ | C31: 0 | D31: 1690 | E31: 1500 | F31: 1450 | G31: =Лист2!M31 -> 0 | I31: РАТЭК , БАЙКАЛ-СЕРВИС, СДЭК И ДР. | CD31: 3 | CE31: =PRODUCT(CF31,CG31,CH31) -> 0.0312 | CF31: 1.2 | CG31: 0.2 | CH31: 0.13 | CI31: =PRODUCT(CE31,C31) -> 0 | CJ31: =PRODUCT(CD31,C31) -> 0
C32: 0 | G32: =Лист2!M32 -> 0 | J32: заказы от 15000 | K32: 450 | CD32: 0 | CE32: =PRODUCT(CF32,CG32,CH32) -> 0 | CI32: =PRODUCT(CE32,C32) -> 0 | CJ32: =PRODUCT(CD32,C32) -> 0
A33: Березка_12 | B33: 1,2-1,3м | C33: 0 | D33: 1680 | E33: 1590 | F33: 1500 | G33: =Лист2!M33 -> 0 | J33: заказы от 25000 | K33: 650 | CD33: 4 | CE33: =PRODUCT(CF33,CG33,CH33) -> 0.0312 | CF33: 1.2 | CG33: 0.2 | CH33: 0.13 | CI33: =PRODUCT(CE33,C33) -> 0 | CJ33: =PRODUCT(CD33,C33) -> 0
A34: Распорная подставка на 12 держателей | B34: 1,3-1,4м | C34: 0 | D34: 1680 | E34: 1590 | F34: 1500 | G34: =Лист2!M34 -> 0 | J34: заказы от 50000 | K34: 700 | CD34: 4 | CE34: =PRODUCT(CF34,CG34,CH34) -> 0.0312 | CF34: 1.2 | CG34: 0.2 | CH34: 0.13 | CI34: =PRODUCT(CE34,C34) -> 0 | CJ34: =PRODUCT(CD34,C34) -> 0
B35: 1,4-1,5м | C35: 0 | D35: 1680 | E35: 1590 | F35: 1500 | G35: =Лист2!M35 -> 0 | J35: заказы от 80000 | K35: 800 | CD35: 4 | CE35: =PRODUCT(CF35,CG35,CH35) -> 0.0312 | CF35: 1.2 | CG35: 0.2 | CH35: 0.13 | CI35: =PRODUCT(CE35,C35) -> 0 | CJ35: =PRODUCT(CD35,C35) -> 0
B36: 1,5-1,6м | C36: 0 | D36: 1680 | E36: 1590 | F36: 1500 | G36: =Лист2!M36 -> 0 | J36: заказы от 100000 | K36: 1400 | CD36: 4 | CE36: =PRODUCT(CF36,CG36,CH36) -> 0.0312 | CF36: 1.2 | CG36: 0.2 | CH36: 0.13 | CI36: =PRODUCT(CE36,C36) -> 0 | CJ36: =PRODUCT(CD36,C36) -> 0
B37: 1,6-1,7м | C37: 0 | D37: 1680 | E37: 1590 | F37: 1500 | G37: =Лист2!M37 -> 0 | CD37: 4 | CE37: =PRODUCT(CF37,CG37,CH37) -> 0.0312 | CF37: 1.2 | CG37: 0.2 | CH37: 0.13 | CI37: =PRODUCT(CE37,C37) -> 0 | CJ37: =PRODUCT(CD37,C37) -> 0
B38: под заказ | C38: 0 | D38: 1880 | E38: 1790 | F38: 1700 | G38: =Лист2!M38 -> 0 | I38: Стоимость доставки до Вашего города оплачивается получателем | CD38: 4 | CE38: =PRODUCT(CF38,CG38,CH38) -> 0.0312 | CF38: 1.2 | CG38: 0.2 | CH38: 0.13 | CI38: =PRODUCT(CE38,C38) -> 0 | CJ38: =PRODUCT(CD38,C38) -> 0
C39: 0 | G39: =Лист2!M39 -> 0 | CD39: 0 | CE39: =PRODUCT(CF39,CG39,CH39) -> 0 | CI39: =PRODUCT(CE39,C39) -> 0 | CJ39: =PRODUCT(CD39,C39) -> 0
A40: Березка_12, наклон | B40: 1,2-1,3м | C40: 0 | D40: 1900 | E40: 1800 | F40: =D40*0.9 -> 1710 | G40: =Лист2!M40 -> 0 | CD40: 4 | CE40: =PRODUCT(CF40,CG40,CH40) -> 0.0312 | CF40: 1.2 | CG40: 0.2 | CH40: 0.13 | CI40: =PRODUCT(CE40,C40) -> 0 | CJ40: =PRODUCT(CD40,C40) -> 0
A41: Распорная подставка на 12 держателей | B41: 1,3-1,4м | C41: 0 | D41: 1900 | E41: 1800 | F41: =D41*0.9 -> 1710 | G41: =Лист2!M41 -> 0 | I41: НАШИ КОНТАКТЫ | CD41: 4 | CE41: =PRODUCT(CF41,CG41,CH41) -> 0.0312 | CF41: 1.2 | CG41: 0.2 | CH41: 0.13 | CI41: =PRODUCT(CE41,C41) -> 0 | CJ41: =PRODUCT(CD41,C41) -> 0
A42: если верний откос под наклоном | B42: 1,4-1,5м | C42: 0 | D42: 1900 | E42: 1800 | F42: =D42*0.9 -> 1710 | G42: =Лист2!M42 -> 0 | CD42: 4 | CE42: =PRODUCT(CF42,CG42,CH42) -> 0.0312 | CF42: 1.2 | CG42: 0.2 | CH42: 0.13 | CI42: =PRODUCT(CE42,C42) -> 0 | CJ42: =PRODUCT(CD42,C42) -> 0
B43: 1,5-1,6м | C43: 0 | D43: 1900 | E43: 1800 | F43: =D43*0.9 -> 1710 | G43: =Лист2!M43 -> 0 | I43: Наш сайт | CD43: 4 | CE43: =PRODUCT(CF43,CG43,CH43) -> 0.0312 | CF43: 1.2 | CG43: 0.2 | CH43: 0.13 | CI43: =PRODUCT(CE43,C43) -> 0 | CJ43: =PRODUCT(CD43,C43) -> 0
B44: 1,6-1,7м | C44: 0 | D44: 1900 | E44: 1800 | F44: =D44*0.9 -> 1710 | G44: =Лист2!M44 -> 0 | J44: www.ДляЦветов.рф | CD44: 4 | CE44: =PRODUCT(CF44,CG44,CH44) -> 0.0312 | CF44: 1.2 | CG44: 0.2 | CH44: 0.13 | CI44: =PRODUCT(CE44,C44) -> 0 | CJ44: =PRODUCT(CD44,C44) -> 0
B45: под заказ | C45: 0 | D45: 2100 | E45: 2000 | F45: 1910 | G45: =Лист2!M45 -> 0 | CD45: 4 | CE45: =PRODUCT(CF45,CG45,CH45) -> 0.0312 | CF45: 1.2 | CG45: 0.2 | CH45: 0.13 | CI45: =PRODUCT(CE45,C45) -> 0 | CJ45: =PRODUCT(CD45,C45) -> 0
C46: 0 | G46: =Лист2!M46 -> 0 | CD46: 0 | CE46: =PRODUCT(CF46,CG46,CH46) -> 0 | CI46: =PRODUCT(CE46,C46) -> 0 | CJ46: =PRODUCT(CD46,C46) -> 0
A47: Осина_8 | B47: 1,2-1,3м | C47: 0 | D47: 1490 | E47: 1300 | F47: 1250 | G47: =Лист2!M47 -> 0 | I47: Адрес нашей электронной почты | CD47: 4 | CE47: =PRODUCT(CF47,CG47,CH47) -> 0.0312 | CF47: 1.2 | CG47: 0.2 | CH47: 0.13 | CI47: =PRODUCT(CE47,C47) -> 0 | CJ47: =PRODUCT(CD47,C47) -> 0
A48: Распорная подставка на 8 держателей | B48: 1,3-1,4м | C48: 0 | D48: 1490 | E48: 1300 | F48: 1250 | G48: =Лист2!M48 -> 0 | J48: rostok_vrn@mail.ru | CD48: 4 | CE48: =PRODUCT(CF48,CG48,CH48) -> 0.0312 | CF48: 1.2 | CG48: 0.2 | CH48: 0.13 | CI48: =PRODUCT(CE48,C48) -> 0 | CJ48: =PRODUCT(CD48,C48) -> 0
A49: для крупных растений | B49: 1,4-1,5м | C49: 0 | D49: 1490 | E49: 1300 | F49: 1250 | G49: =Лист2!M49 -> 0 | CD49: 4 | CE49: =PRODUCT(CF49,CG49,CH49) -> 0.0312 | CF49: 1.2 | CG49: 0.2 | CH49: 0.13 | CI49: =PRODUCT(CE49,C49) -> 0 | CJ49: =PRODUCT(CD49,C49) -> 0
B50: 1,5-1,6м | C50: 0 | D50: 1490 | E50: 1300 | F50: 1250 | G50: =Лист2!M50 -> 0 | CD50: 4 | CE50: =PRODUCT(CF50,CG50,CH50) -> 0.0312 | CF50: 1.2 | CG50: 0.2 | CH50: 0.13 | CI50: =PRODUCT(CE50,C50) -> 0 | CJ50: =PRODUCT(CD50,C50) -> 0
B51: 1,6-1,7м | C51: 0 | D51: 1490 | E51: 1300 | F51: 1250 | G51: =Лист2!M51 -> 0 | I51: Наши Клубы в социальных сетях | CD51: 4 | CE51: =PRODUCT(CF51,CG51,CH51) -> 0.0312 | CF51: 1.2 | CG51: 0.2 | CH51: 0.13 | CI51: =PRODUCT(CE51,C51) -> 0 | CJ51: =PRODUCT(CD51,C51) -> 0
B52: под заказ | C52: 0 | D52: 1690 | E52: 1500 | F52: 1450 | G52: =Лист2!M52 -> 0 | J52: Вконтакте | CD52: 4 | CE52: =PRODUCT(CF52,CG52,CH52) -> 0.0312 | CF52: 1.2 | CG52: 0.2 | CH52: 0.13 | CI52: =PRODUCT(CE52,C52) -> 0 | CJ52: =PRODUCT(CD52,C52) -> 0
C53: 0 | G53: =Лист2!M53 -> 0 | J53: Одноклассники | CD53: 0 | CE53: =PRODUCT(CF53,CG53,CH53) -> 0 | CI53: =PRODUCT(CE53,C53) -> 0 | CJ53: =PRODUCT(CD53,C53) -> 0
A54: Осина_8наклон | B54: 1,2-1,3м | C54: 0 | D54: 1650 | E54: 1550 | F54: 1500 | G54: =Лист2!M54 -> 0 | I54: facebook | CD54: 4 | CE54: =PRODUCT(CF54,CG54,CH54) -> 0.0312 | CF54: 1.2 | CG54: 0.2 | CH54: 0.13 | CI54: =PRODUCT(CE54,C54) -> 0 | CJ54: =PRODUCT(CD54,C54) -> 0
A55: Распорная подставка на 8 держателей | B55: 1,3-1,4м | C55: 0 | D55: 1650 | E55: 1550 | F55: 1500 | G55: =Лист2!M55 -> 0 | I55: Instagram | CD55: 4 | CE55: =PRODUCT(CF55,CG55,CH55) -> 0.0312 | CF55: 1.2 | CG55: 0.2 | CH55: 0.13 | CI55: =PRODUCT(CE55,C55) -> 0 | CJ55: =PRODUCT(CD55,C55) -> 0
A56: для крупных растений | B56: 1,4-1,5м | C56: 0 | D56: 1650 | E56: 1550 | F56: 1500 | G56: =Лист2!M56 -> 0 | CD56: 4 | CE56: =PRODUCT(CF56,CG56,CH56) -> 0.0312 | CF56: 1.2 | CG56: 0.2 | CH56: 0.13 | CI56: =PRODUCT(CE56,C56) -> 0 | CJ56: =PRODUCT(CD56,C56) -> 0
A57: если верхний откос под наклоном | B57: 1,5-1,6м | C57: 0 | D57: 1650 | E57: 1550 | F57: 1500 | G57: =Лист2!M57 -> 0 | CD57: 4 | CE57: =PRODUCT(CF57,CG57,CH57) -> 0.0312 | CF57: 1.2 | CG57: 0.2 | CH57: 0.13 | CI57: =PRODUCT(CE57,C57) -> 0 | CJ57: =PRODUCT(CD57,C57) -> 0
B58: 1,6-1,7м | C58: 0 | D58: 1650 | E58: 1550 | F58: 1500 | G58: =Лист2!M58 -> 0 | CD58: 4 | CE58: =PRODUCT(CF58,CG58,CH58) -> 0.0312 | CF58: 1.2 | CG58: 0.2 | CH58: 0.13 | CI58: =PRODUCT(CE58,C58) -> 0 | CJ58: =PRODUCT(CD58,C58) -> 0
B59: под заказ | C59: 0 | D59: 1850 | E59: 1750 | F59: 1700 | G59: =Лист2!M59 -> 0 | CD59: 4 | CE59: =PRODUCT(CF59,CG59,CH59) -> 0.0312 | CF59: 1.2 | CG59: 0.2 | CH59: 0.13 | CI59: =PRODUCT(CE59,C59) -> 0 | CJ59: =PRODUCT(CD59,C59) -> 0
G60: =Лист2!M60 -> 0 | CD60: 0 | CE60: =PRODUCT(CF60,CG60,CH60) -> 0 | CI60: =PRODUCT(CE60,C60) -> 0 | CJ60: =PRODUCT(CD60,C60) -> 0
A61: Кипарис_5 | B61: 1,2-1,3м | C61: 0 | D61: 1370 | E61: 1300 | F61: 1200 | G61: =Лист2!M61 -> 0 | CD61: 3 | CE61: =PRODUCT(CF61,CG61,CH61) -> 0.0312 | CF61: 1.2 | CG61: 0.2 | CH61: 0.13 | CI61: =PRODUCT(CE61,C61) -> 0 | CJ61: =PRODUCT(CD61,C61) -> 0
A62: Распорная подставка на 5 тройных держателей | B62: 1,3-1,4м | C62: 0 | D62: 1370 | E62: 1300 | F62: 1200 | G62: =Лист2!M62 -> 0 | CD62: 3 | CE62: =PRODUCT(CF62,CG62,CH62) -> 0.0312 | CF62: 1.2 | CG62: 0.2 | CH62: 0.13 | CI62: =PRODUCT(CE62,C62) -> 0 | CJ62: =PRODUCT(CD62,C62) -> 0
A63: для маленьких растений | B63: 1,4-1,5м | C63: 0 | D63: 1370 | E63: 1300 | F63: 1200 | G63: =Лист2!M63 -> 0 | CD63: 3 | CE63: =PRODUCT(CF63,CG63,CH63) -> 0.0312 | CF63: 1.2 | CG63: 0.2 | CH63: 0.13 | CI63: =PRODUCT(CE63,C63) -> 0 | CJ63: =PRODUCT(CD63,C63) -> 0
B64: 1,5-1,6м | C64: 0 | D64: 1370 | E64: 1300 | F64: 1200 | G64: =Лист2!M64 -> 0 | CD64: 3 | CE64: =PRODUCT(CF64,CG64,CH64) -> 0.0312 | CF64: 1.2 | CG64: 0.2 | CH64: 0.13 | CI64: =PRODUCT(CE64,C64) -> 0 | CJ64: =PRODUCT(CD64,C64) -> 0
B65: 1,6-1,7м | C65: 0 | D65: 1370 | E65: 1300 | F65: 1200 | G65: =Лист2!M65 -> 0 | CD65: 3 | CE65: =PRODUCT(CF65,CG65,CH65) -> 0.0312 | CF65: 1.2 | CG65: 0.2 | CH65: 0.13 | CI65: =PRODUCT(CE65,C65) -> 0 | CJ65: =PRODUCT(CD65,C65) -> 0
B66: под заказ | C66: 0 | D66: 1570 | E66: 1700 | F66: 1400 | G66: =Лист2!M66 -> 0 | CD66: 3 | CE66: =PRODUCT(CF66,CG66,CH66) -> 0.0312 | CF66: 1.2 | CG66: 0.2 | CH66: 0.13 | CI66: =PRODUCT(CE66,C66) -> 0 | CJ66: =PRODUCT(CD66,C66) -> 0
C67: 0 | G67: =Лист2!M67 -> 0 | CD67: 0 | CE67: =PRODUCT(CF67,CG67,CH67) -> 0 | CI67: =PRODUCT(CE67,C67) -> 0 | CJ67: =PRODUCT(CD67,C67) -> 0
A68: Кипарис_5наклон | B68: 1,2-1,3м | C68: 0 | D68: 1550 | E68: 1410 | F68: 1330 | G68: =Лист2!M68 -> 0 | CD68: 3 | CE68: =PRODUCT(CF68,CG68,CH68) -> 0.0312 | CF68: 1.2 | CG68: 0.2 | CH68: 0.13 | CI68: =PRODUCT(CE68,C68) -> 0 | CJ68: =PRODUCT(CD68,C68) -> 0
A69: Распорная подставка на 5 тройных держателей | B69: 1,3-1,4м | C69: 0 | D69: 1550 | E69: 1410 | F69: 1330 | G69: =Лист2!M69 -> 0 | CD69: 3 | CE69: =PRODUCT(CF69,CG69,CH69) -> 0.0312 | CF69: 1.2 | CG69: 0.2 | CH69: 0.13 | CI69: =PRODUCT(CE69,C69) -> 0 | CJ69: =PRODUCT(CD69,C69) -> 0
A70: для маленьких растений | B70: 1,4-1,5м | C70: 0 | D70: 1550 | E70: 1410 | F70: 1330 | G70: =Лист2!M70 -> 0 | CD70: 3 | CE70: =PRODUCT(CF70,CG70,CH70) -> 0.0312 | CF70: 1.2 | CG70: 0.2 | CH70: 0.13 | CI70: =PRODUCT(CE70,C70) -> 0 | CJ70: =PRODUCT(CD70,C70) -> 0
A71: если верхний откос под наклоном | B71: 1,5-1,6м | C71: 0 | D71: 1550 | E71: 1410 | F71: 1330 | G71: =Лист2!M71 -> 0 | CD71: 3 | CE71: =PRODUCT(CF71,CG71,CH71) -> 0.0312 | CF71: 1.2 | CG71: 0.2 | CH71: 0.13 | CI71: =PRODUCT(CE71,C71) -> 0 | CJ71: =PRODUCT(CD71,C71) -> 0
B72: 1,6-1,7м | C72: 0 | D72: 1550 | E72: 1410 | F72: 1330 | G72: =Лист2!M72 -> 0 | CD72: 3 | CE72: =PRODUCT(CF72,CG72,CH72) -> 0.0312 | CF72: 1.2 | CG72: 0.2 | CH72: 0.13 | CI72: =PRODUCT(CE72,C72) -> 0 | CJ72: =PRODUCT(CD72,C72) -> 0
B73: под заказ | C73: 0 | D73: 1750 | E73: 1610 | F73: 1530 | G73: =Лист2!M73 -> 0 | CD73: 3 | CE73: =PRODUCT(CF73,CG73,CH73) -> 0.0312 | CF73: 1.2 | CG73: 0.2 | CH73: 0.13 | CI73: =PRODUCT(CE73,C73) -> 0 | CJ73: =PRODUCT(CD73,C73) -> 0
G74: =Лист2!M74 -> 0 | CD74: 0 | CE74: =PRODUCT(CF74,CG74,CH74) -> 0 | CI74: =PRODUCT(CE74,C74) -> 0 | CJ74: =PRODUCT(CD74,C74) -> 0
A75: Орхидея_5 | B75: 1,2-1,3м | C75: 0 | D75: 1250 | E75: 1200 | F75: 1150 | G75: =Лист2!M75 -> 0 | CD75: 3 | CE75: =PRODUCT(CF75,CG75,CH75) -> 0.0312 | CF75: 1.2 | CG75: 0.2 | CH75: 0.13 | CI75: =PRODUCT(CE75,C75) -> 0 | CJ75: =PRODUCT(CD75,C75) -> 0
A76: Распорная подставка для орхидей, | B76: 1,3-1,4м | C76: 0 | D76: 1250 | E76: 1200 | F76: 1150 | G76: =Лист2!M76 -> 0 | CD76: 3 | CE76: =PRODUCT(CF76,CG76,CH76) -> 0.0312 | CF76: 1.2 | CG76: 0.2 | CH76: 0.13 | CI76: =PRODUCT(CE76,C76) -> 0 | CJ76: =PRODUCT(CD76,C76) -> 0
B77: 1,4-1,5м | C77: 0 | D77: 1250 | E77: 1200 | F77: 1150 | G77: =Лист2!M77 -> 0 | CD77: 3 | CE77: =PRODUCT(CF77,CG77,CH77) -> 0.0312 | CF77: 1.2 | CG77: 0.2 | CH77: 0.13 | CI77: =PRODUCT(CE77,C77) -> 0 | CJ77: =PRODUCT(CD77,C77) -> 0
B78: 1,5-1,6м | C78: 0 | D78: 1250 | E78: 1200 | F78: 1150 | G78: =Лист2!M78 -> 0 | CD78: 3 | CE78: =PRODUCT(CF78,CG78,CH78) -> 0.0312 | CF78: 1.2 | CG78: 0.2 | CH78: 0.13 | CI78: =PRODUCT(CE78,C78) -> 0 | CJ78: =PRODUCT(CD78,C78) -> 0
B79: 1,6-1,7м | C79: 0 | D79: 1250 | E79: 1200 | F79: 1150 | G79: =Лист2!M79 -> 0 | CD79: 3 | CE79: =PRODUCT(CF79,CG79,CH79) -> 0.0312 | CF79: 1.2 | CG79: 0.2 | CH79: 0.13 | CI79: =PRODUCT(CE79,C79) -> 0 | CJ79: =PRODUCT(CD79,C79) -> 0
B80: под заказ | C80: 0 | D80: 1450 | E80: 1410 | F80: 1350 | G80: =Лист2!M80 -> 0 | CD80: 3 | CE80: =PRODUCT(CF80,CG80,CH80) -> 0.0312 | CF80: 1.2 | CG80: 0.2 | CH80: 0.13 | CI80: =PRODUCT(CE80,C80) -> 0 | CJ80: =PRODUCT(CD80,C80) -> 0
C81: 0 | G81: =Лист2!M81 -> 0 | CD81: 0 | CE81: =PRODUCT(CF81,CG81,CH81) -> 0 | CI81: =PRODUCT(CE81,C81) -> 0 | CJ81: =PRODUCT(CD81,C81) -> 0
A82: Орхидея_5наклон | B82: 1,2-1,3м | C82: 0 | D82: 1470 | E82: 1400 | F82: 1300 | G82: =Лист2!M82 -> 0 | CD82: 3 | CE82: =PRODUCT(CF82,CG82,CH82) -> 0.0312 | CF82: 1.2 | CG82: 0.2 | CH82: 0.13 | CI82: =PRODUCT(CE82,C82) -> 0 | CJ82: =PRODUCT(CD82,C82) -> 0
A83: Распорная подставка для орхидей, | B83: 1,3-1,4м | C83: 0 | D83: 1470 | E83: 1400 | F83: 1300 | G83: =Лист2!M83 -> 0 | CD83: 3 | CE83: =PRODUCT(CF83,CG83,CH83) -> 0.0312 | CF83: 1.2 | CG83: 0.2 | CH83: 0.13 | CI83: =PRODUCT(CE83,C83) -> 0 | CJ83: =PRODUCT(CD83,C83) -> 0
A84: если верхний откос под наклоном | B84: 1,4-1,5м | C84: 0 | D84: 1470 | E84: 1400 | F84: 1300 | G84: =Лист2!M84 -> 0 | CD84: 3 | CE84: =PRODUCT(CF84,CG84,CH84) -> 0.0312 | CF84: 1.2 | CG84: 0.2 | CH84: 0.13 | CI84: =PRODUCT(CE84,C84) -> 0 | CJ84: =PRODUCT(CD84,C84) -> 0
B85: 1,5-1,6м | C85: 0 | D85: 1470 | E85: 1400 | F85: 1300 | G85: =Лист2!M85 -> 0 | CD85: 3 | CE85: =PRODUCT(CF85,CG85,CH85) -> 0.0312 | CF85: 1.2 | CG85: 0.2 | CH85: 0.13 | CI85: =PRODUCT(CE85,C85) -> 0 | CJ85: =PRODUCT(CD85,C85) -> 0
B86: 1,6-1,7м | C86: 0 | D86: 1470 | E86: 1400 | F86: 1300 | G86: =Лист2!M86 -> 0 | CD86: 3 | CE86: =PRODUCT(CF86,CG86,CH86) -> 0.0312 | CF86: 1.2 | CG86: 0.2 | CH86: 0.13 | CI86: =PRODUCT(CE86,C86) -> 0 | CJ86: =PRODUCT(CD86,C86) -> 0
B87: под заказ | C87: 0 | D87: 1670 | E87: 1600 | F87: 1500 | G87: =Лист2!M87 -> 0 | CD87: 3 | CE87: =PRODUCT(CF87,CG87,CH87) -> 0.0312 | CF87: 1.2 | CG87: 0.2 | CH87: 0.13 | CI87: =PRODUCT(CE87,C87) -> 0 | CJ87: =PRODUCT(CD87,C87) -> 0
C88: 0 | G88: =Лист2!M88 -> 0 | CD88: 0 | CE88: =PRODUCT(CF88,CG88,CH88) -> 0 | CI88: =PRODUCT(CE88,C88) -> 0 | CJ88: =PRODUCT(CD88,C88) -> 0
C89: 0 | G89: =Лист2!M89 -> 0 | CD89: 0 | CE89: =PRODUCT(CF89,CG89,CH89) -> 0 | CI89: =PRODUCT(CE89,C89) -> 0 | CJ89: =PRODUCT(CD89,C89) -> 0
A90: стеллаж Кедр, ширина 104см | B90: 1,35-1,45м | C90: 0 | D90: 1990 | E90: 1890 | F90: 1800 | G90: =Лист2!M90 -> 0 | CD90: 7 | CE90: =PRODUCT(CF90,CG90,CH90) -> 0.0312 | CF90: 1.2 | CG90: 0.2 | CH90: 0.13 | CI90: =PRODUCT(CE90,C90) -> 0 | CJ90: =PRODUCT(CD90,C90) -> 0
A91: Распорный стеллаж на 4 полки | B91: 1,45-1,55м | C91: 0 | D91: 1990 | E91: 1890 | F91: 1800 | G91: =Лист2!M91 -> 0 | CD91: 7 | CE91: =PRODUCT(CF91,CG91,CH91) -> 0.0312 | CF91: 1.2 | CG91: 0.2 | CH91: 0.13 | CI91: =PRODUCT(CE91,C91) -> 0 | CJ91: =PRODUCT(CD91,C91) -> 0
B92: 1,55-1,65м | C92: 0 | D92: 1990 | E92: 1890 | F92: 1800 | G92: =Лист2!M92 -> 0 | CD92: 7 | CE92: =PRODUCT(CF92,CG92,CH92) -> 0.0312 | CF92: 1.2 | CG92: 0.2 | CH92: 0.13 | CI92: =PRODUCT(CE92,C92) -> 0 | CJ92: =PRODUCT(CD92,C92) -> 0
B93: под заказ | C93: 0 | D93: 2190 | E93: 2090 | F93: 2000 | G93: =Лист2!M93 -> 0 | CD93: 7 | CE93: =PRODUCT(CF93,CG93,CH93) -> 0.0312 | CF93: 1.2 | CG93: 0.2 | CH93: 0.13 | CI93: =PRODUCT(CE93,C93) -> 0 | CJ93: =PRODUCT(CD93,C93) -> 0
C94: 0 | G94: =Лист2!M94 -> 0 | CD94: 0 | CE94: =PRODUCT(CF94,CG94,CH94) -> 0 | CI94: =PRODUCT(CE94,C94) -> 0 | CJ94: =PRODUCT(CD94,C94) -> 0
A95: стеллаж Кедр, ширина 84см | B95: 1,35-1,45м | C95: 0 | D95: 1890 | E95: 1790 | F95: 1700 | G95: =Лист2!M95 -> 0 | CD95: 7 | CE95: =PRODUCT(CF95,CG95,CH95) -> 0.0312 | CF95: 1.2 | CG95: 0.2 | CH95: 0.13 | CI95: =PRODUCT(CE95,C95) -> 0 | CJ95: =PRODUCT(CD95,C95) -> 0
A96: Распорный стеллаж на 4 полки | B96: 1,45-1,55м | C96: 0 | D96: 1890 | E96: 1790 | F96: 1700 | G96: =Лист2!M96 -> 0 | CD96: 7 | CE96: =PRODUCT(CF96,CG96,CH96) -> 0.0312 | CF96: 1.2 | CG96: 0.2 | CH96: 0.13 | CI96: =PRODUCT(CE96,C96) -> 0 | CJ96: =PRODUCT(CD96,C96) -> 0
B97: 1,55-1,65м | C97: 0 | D97: 1890 | E97: 1790 | F97: 1700 | G97: =Лист2!M97 -> 0 | CD97: 7 | CE97: =PRODUCT(CF97,CG97,CH97) -> 0.0312 | CF97: 1.2 | CG97: 0.2 | CH97: 0.13 | CI97: =PRODUCT(CE97,C97) -> 0 | CJ97: =PRODUCT(CD97,C97) -> 0
B98: под заказ | C98: 0 | D98: 2090 | E98: 1990 | F98: 1900 | G98: =Лист2!M98 -> 0 | CD98: 7 | CE98: =PRODUCT(CF98,CG98,CH98) -> 0.0312 | CF98: 1.2 | CG98: 0.2 | CH98: 0.13 | CI98: =PRODUCT(CE98,C98) -> 0 | CJ98: =PRODUCT(CD98,C98) -> 0
C99: 0 | G99: =Лист2!M99 -> 0 | CD99: 0 | CE99: =PRODUCT(CF99,CG99,CH99) -> 0 | CI99: =PRODUCT(CE99,C99) -> 0 | CJ99: =PRODUCT(CD99,C99) -> 0
A100: стеллаж Кедр, ширина 64см | B100: 1,35-1,45м | C100: 0 | D100: 1790 | E100: 1690 | F100: 1600 | G100: =Лист2!M100 -> 0 | CD100: 7 | CE100: =PRODUCT(CF100,CG100,CH100) -> 0.0312 | CF100: 1.2 | CG100: 0.2 | CH100: 0.13 | CI100: =PRODUCT(CE100,C100) -> 0 | CJ100: =PRODUCT(CD100,C100) -> 0
...

Sheet Лист2
G4: 15000 | I4: 25000 | K4: 50000
G5: =PRODUCT(Лист1!D5,Лист1!C5) -> 0 | H5: =IF(I266<25000,1,0) -> 1 | I5: =PRODUCT(Лист1!C5,Лист1!E5) -> 0 | J5: =IF(AND(G268=0,K266<50000),1,0) -> 0 | K5: =PRODUCT(Лист1!C5,Лист1!F5) -> 0 | L5: =IF(AND(I268=0,G268=0),1,0) -> 0 | M5: =G5*H5+I5*J5+K5*L5 -> 0
G6: =PRODUCT(Лист1!D6,Лист1!C6) -> 0 | H6: =IF(I266<25000,1,0) -> 1 | I6: =PRODUCT(Лист1!C6,Лист1!E6) -> 0 | J6: =IF(AND(G268=0,K266<50000),1,0) -> 0 | K6: =PRODUCT(Лист1!C6,Лист1!F6) -> 0 | L6: =IF(AND(I268=0,G268=0),1,0) -> 0 | M6: =G6*H6+I6*J6+K6*L6 -> 0
G7: =PRODUCT(Лист1!D7,Лист1!C7) -> 0 | H7: =IF(I266<25000,1,0) -> 1 | I7: =PRODUCT(Лист1!C7,Лист1!E7) -> 0 | J7: =IF(AND(G268=0,K266<50000),1,0) -> 0 | K7: =PRODUCT(Лист1!C7,Лист1!F7) -> 0 | L7: =IF(AND(I268=0,G268=0),1,0) -> 0 | M7: =G7*H7+I7*J7+K7*L7 -> 0
G8: =PRODUCT(Лист1!D8,Лист1!C8) -> 0 | H8: =IF(I266<25000,1,0) -> 1 | I8: =PRODUCT(Лист1!C8,Лист1!E8) -> 0 | J8: =IF(AND(G268=0,K266<50000),1,0) -> 0 | K8: =PRODUCT(Лист1!C8,Лист1!F8) -> 0 | L8: =IF(AND(I268=0,G268=0),1,0) -> 0 | M8: =G8*H8+I8*J8+K8*L8 -> 0
G9: =PRODUCT(Лист1!D9,Лист1!C9) -> 0 | H9: =IF(I266<25000,1,0) -> 1 | I9: =PRODUCT(Лист1!C9,Лист1!E9) -> 0 | J9: =IF(AND(G268=0,K266<50000),1,0) -> 0 | K9: =PRODUCT(Лист1!C9,Лист1!F9) -> 0 | L9: =IF(AND(I268=0,G268=0),1,0) -> 0 | M9: =G9*H9+I9*J9+K9*L9 -> 0
G10: =PRODUCT(Лист1!D10,Лист1!C10) -> 0 | H10: =IF(I266<25000,1,0) -> 1 | I10: =PRODUCT(Лист1!C10,Лист1!E10) -> 0 | J10: =IF(AND(G268=0,K266<50000),1,0) -> 0 | K10: =PRODUCT(Лист1!C10,Лист1!F10) -> 0 | L10: =IF(AND(I268=0,G268=0),1,0) -> 0 | M10: =G10*H10+I10*J10+K10*L10 -> 0
G11: =PRODUCT(Лист1!D11,Лист1!C11) -> 0 | H11: =IF(I266<25000,1,0) -> 1 | I11: =PRODUCT(Лист1!C11,Лист1!E11) -> 0 | J11: =IF(AND(G268=0,K266<50000),1,0) -> 0 | K11: =PRODUCT(Лист1!C11,Лист1!F11) -> 0 | L11: =IF(AND(I268=0,G268=0),1,0) -> 0 | M11: =G11*H11+I11*J11+K11*L11 -> 0
G12: =PRODUCT(Лист1!D12,Лист1!C12) -> 0 | H12: =IF(I266<25000,1,0) -> 1 | I12: =PRODUCT(Лист1!C12,Лист1!E12) -> 0 | J12: =IF(AND(G268=0,K266<50000),1,0) -> 0 | K12: =PRODUCT(Лист1!C12,Лист1!F12) -> 0 | L12: =IF(AND(I268=0,G268=0),1,0) -> 0 | M12: =G12*H12+I12*J12+K12*L12 -> 0
G13: =PRODUCT(Лист1!D13,Лист1!C13) -> 0 | H13: =IF(I266<25000,1,0) -> 1 | I13: =PRODUCT(Лист1!C13,Лист1!E13) -> 0 | J13: =IF(AND(G268=0,K266<50000),1,0) -> 0 | K13: =PRODUCT(Лист1!C13,Лист1!F13) -> 0 | L13: =IF(AND(I268=0,G268=0),1,0) -> 0 | M13: =G13*H13+I13*J13+K13*L13 -> 0
G14: =PRODUCT(Лист1!D14,Лист1!C14) -> 0 | H14: =IF(I266<25000,1,0) -> 1 | I14: =PRODUCT(Лист1!C14,Лист1!E14) -> 0 | J14: =IF(AND(G268=0,K266<50000),1,0) -> 0 | K14: =PRODUCT(Лист1!C14,Лист1!F14) -> 0 | L14: =IF(AND(I268=0,G268=0),1,0) -> 0 | M14: =G14*H14+I14*J14+K14*L14 -> 0
G15: =PRODUCT(Лист1!D15,Лист1!C15) -> 0 | H15: =IF(I266<25000,1,0) -> 1 | I15: =PRODUCT(Лист1!C15,Лист1!E15) -> 0 | J15: =IF(AND(G268=0,K266<50000),1,0) -> 0 | K15: =PRODUCT(Лист1!C15,Лист1!F15) -> 0 | L15: =IF(AND(I268=0,G268=0),1,0) -> 0 | M15: =G15*H15+I15*J15+K15*L15 -> 0
G16: =PRODUCT(Лист1!D16,Лист1!C16) -> 0 | H16: =IF(I266<25000,1,0) -> 1 | I16: =PRODUCT(Лист1!C16,Лист1!E16) -> 0 | J16: =IF(AND(G268=0,K266<50000),1,0) -> 0 | K16: =PRODUCT(Лист1!C16,Лист1!F16) -> 0 | L16: =IF(AND(I268=0,G268=0),1,0) -> 0 | M16: =G16*H16+I16*J16+K16*L16 -> 0
G17: =PRODUCT(Лист1!D17,Лист1!C17) -> 0 | H17: =IF(I266<25000,1,0) -> 1 | I17: =PRODUCT(Лист1!C17,Лист1!E17) -> 0 | J17: =IF(AND(G268=0,K266<50000),1,0) -> 0 | K17: =PRODUCT(Лист1!C17,Лист1!F17) -> 0 | L17: =IF(AND(I268=0,G268=0),1,0) -> 0 | M17: =G17*H17+I17*J17+K17*L17 -> 0
G18: =PRODUCT(Лист1!D18,Лист1!C18) -> 0 | H18: =IF(I266<25000,1,0) -> 1 | I18: =PRODUCT(Лист1!C18,Лист1!E18) -> 0 | J18: =IF(AND(G268=0,K266<50000),1,0) -> 0 | K18: =PRODUCT(Лист1!C18,Лист1!F18) -> 0 | L18: =IF(AND(I268=0,G268=0),1,0) -> 0 | M18: =G18*H18+I18*J18+K18*L18 -> 0
G19: =PRODUCT(Лист1!D19,Лист1!C19) -> 0 | H19: =IF(I266<25000,1,0) -> 1 | I19: =PRODUCT(Лист1!C19,Лист1!E19) -> 0 | J19: =IF(AND(G268=0,K266<50000),1,0) -> 0 | K19: =PRODUCT(Лист1!C19,Лист1!F19) -> 0 | L19: =IF(AND(I268=0,G268=0),1,0) -> 0 | M19: =G19*H19+I19*J19+K19*L19 -> 0
G20: =PRODUCT(Лист1!D20,Лист1!C20) -> 0 | H20: =IF(I266<25000,1,0) -> 1 | I20: =PRODUCT(Лист1!C20,Лист1!E20) -> 0 | J20: =IF(AND(G268=0,K266<50000),1,0) -> 0 | K20: =PRODUCT(Лист1!C20,Лист1!F20) -> 0 | L20: =IF(AND(I268=0,G268=0),1,0) -> 0 | M20: =G20*H20+I20*J20+K20*L20 -> 0
G21: =PRODUCT(Лист1!D21,Лист1!C21) -> 0 | H21: =IF(I266<25000,1,0) -> 1 | I21: =PRODUCT(Лист1!C21,Лист1!E21) -> 0 | J21: =IF(AND(G268=0,K266<50000),1,0) -> 0 | K21: =PRODUCT(Лист1!C21,Лист1!F21) -> 0 | L21: =IF(AND(I268=0,G268=0),1,0) -> 0 | M21: =G21*H21+I21*J21+K21*L21 -> 0
G22: =PRODUCT(Лист1!D22,Лист1!C22) -> 0 | H22: =IF(I266<25000,1,0) -> 1 | I22: =PRODUCT(Лист1!C22,Лист1!E22) -> 0 | J22: =IF(AND(G268=0,K266<50000),1,0) -> 0 | K22: =PRODUCT(Лист1!C22,Лист1!F22) -> 0 | L22: =IF(AND(I268=0,G268=0),1,0) -> 0 | M22: =G22*H22+I22*J22+K22*L22 -> 0
G23: =PRODUCT(Лист1!D23,Лист1!C23) -> 0 | H23: =IF(I266<25000,1,0) -> 1 | I23: =PRODUCT(Лист1!C23,Лист1!E23) -> 0 | J23: =IF(AND(G268=0,K266<50000),1,0) -> 0 | K23: =PRODUCT(Лист1!C23,Лист1!F23) -> 0 | L23: =IF(AND(I268=0,G268=0),1,0) -> 0 | M23: =G23*H23+I23*J23+K23*L23 -> 0
G24: =PRODUCT(Лист1!D24,Лист1!C24) -> 0 | H24: =IF(I266<25000,1,0) -> 1 | I24: =PRODUCT(Лист1!C24,Лист1!E24) -> 0 | J24: =IF(AND(G268=0,K266<50000),1,0) -> 0 | K24: =PRODUCT(Лист1!C24,Лист1!F24) -> 0 | L24: =IF(AND(I268=0,G268=0),1,0) -> 0 | M24: =G24*H24+I24*J24+K24*L24 -> 0
G25: =PRODUCT(Лист1!D25,Лист1!C25) -> 0 | H25: =IF(I266<25000,1,0) -> 1 | I25: =PRODUCT(Лист1!C25,Лист1!E25) -> 0 | J25: =IF(AND(G268=0,K266<50000),1,0) -> 0 | K25: =PRODUCT(Лист1!C25,Лист1!F25) -> 0 | L25: =IF(AND(I268=0,G268=0),1,0) -> 0 | M25: =G25*H25+I25*J25+K25*L25 -> 0
G26: =PRODUCT(Лист1!D26,Лист1!C26) -> 0 | H26: =IF(I266<25000,1,0) -> 1 | I26: =PRODUCT(Лист1!C26,Лист1!E26) -> 0 | J26: =IF(AND(G268=0,K266<50000),1,0) -> 0 | K26: =PRODUCT(Лист1!C26,Лист1!F26) -> 0 | L26: =IF(AND(I268=0,G268=0),1,0) -> 0 | M26: =G26*H26+I26*J26+K26*L26 -> 0
G27: =PRODUCT(Лист1!D27,Лист1!C27) -> 0 | H27: =IF(I266<25000,1,0) -> 1 | I27: =PRODUCT(Лист1!C27,Лист1!E27) -> 0 | J27: =IF(AND(G268=0,K266<50000),1,0) -> 0 | K27: =PRODUCT(Лист1!C27,Лист1!F27) -> 0 | L27: =IF(AND(I268=0,G268=0),1,0) -> 0 | M27: =G27*H27+I27*J27+K27*L27 -> 0
G28: =PRODUCT(Лист1!D28,Лист1!C28) -> 0 | H28: =IF(I266<25000,1,0) -> 1 | I28: =PRODUCT(Лист1!C28,Лист1!E28) -> 0 | J28: =IF(AND(G268=0,K266<50000),1,0) -> 0 | K28: =PRODUCT(Лист1!C28,Лист1!F28) -> 0 | L28: =IF(AND(I268=0,G268=0),1,0) -> 0 | M28: =G28*H28+I28*J28+K28*L28 -> 0
G29: =PRODUCT(Лист1!D29,Лист1!C29) -> 0 | H29: =IF(I266<25000,1,0) -> 1 | I29: =PRODUCT(Лист1!C29,Лист1!E29) -> 0 | J29: =IF(AND(G268=0,K266<50000),1,0) -> 0 | K29: =PRODUCT(Лист1!C29,Лист1!F29) -> 0 | L29: =IF(AND(I268=0,G268=0),1,0) -> 0 | M29: =G29*H29+I29*J29+K29*L29 -> 0
G30: =PRODUCT(Лист1!D30,Лист1!C30) -> 0 | H30: =IF(I266<25000,1,0) -> 1 | I30: =PRODUCT(Лист1!C30,Лист1!E30) -> 0 | J30: =IF(AND(G268=0,K266<50000),1,0) -> 0 | K30: =PRODUCT(Лист1!C30,Лист1!F30) -> 0 | L30: =IF(AND(I268=0,G268=0),1,0) -> 0 | M30: =G30*H30+I30*J30+K30*L30 -> 0
G31: =PRODUCT(Лист1!D31,Лист1!C31) -> 0 | H31: =IF(I266<25000,1,0) -> 1 | I31: =PRODUCT(Лист1!C31,Лист1!E31) -> 0 | J31: =IF(AND(G268=0,K266<50000),1,0) -> 0 | K31: =PRODUCT(Лист1!C31,Лист1!F31) -> 0 | L31: =IF(AND(I268=0,G268=0),1,0) -> 0 | M31: =G31*H31+I31*J31+K31*L31 -> 0
G32: =PRODUCT(Лист1!D32,Лист1!C32) -> 0 | H32: =IF(I266<25000,1,0) -> 1 | I32: =PRODUCT(Лист1!C32,Лист1!E32) -> 0 | J32: =IF(AND(G268=0,K266<50000),1,0) -> 0 | K32: =PRODUCT(Лист1!C32,Лист1!F32) -> 0 | L32: =IF(AND(I268=0,G268=0),1,0) -> 0 | M32: =G32*H32+I32*J32+K32*L32 -> 0
G33: =PRODUCT(Лист1!D33,Лист1!C33) -> 0 | H33: =IF(I266<25000,1,0) -> 1 | I33: =PRODUCT(Лист1!C33,Лист1!E33) -> 0 | J33: =IF(AND(G268=0,K266<50000),1,0) -> 0 | K33: =PRODUCT(Лист1!C33,Лист1!F33) -> 0 | L33: =IF(AND(I268=0,G268=0),1,0) -> 0 | M33: =G33*H33+I33*J33+K33*L33 -> 0
G34: =PRODUCT(Лист1!D34,Лист1!C34) -> 0 | H34: =IF(I266<25000,1,0) -> 1 | I34: =PRODUCT(Лист1!C34,Лист1!E34) -> 0 | J34: =IF(AND(G268=0,K266<50000),1,0) -> 0 | K34: =PRODUCT(Лист1!C34,Лист1!F34) -> 0 | L34: =IF(AND(I268=0,G268=0),1,0) -> 0 | M34: =G34*H34+I34*J34+K34*L34 -> 0
G35: =PRODUCT(Лист1!D35,Лист1!C35) -> 0 | H35: =IF(I266<25000,1,0) -> 1 | I35: =PRODUCT(Лист1!C35,Лист1!E35) -> 0 | J35: =IF(AND(G268=0,K266<50000),1,0) -> 0 | K35: =PRODUCT(Лист1!C35,Лист1!F35) -> 0 | L35: =IF(AND(I268=0,G268=0),1,0) -> 0 | M35: =G35*H35+I35*J35+K35*L35 -> 0
G36: =PRODUCT(Лист1!D36,Лист1!C36) -> 0 | H36: =IF(I266<25000,1,0) -> 1 | I36: =PRODUCT(Лист1!C36,Лист1!E36) -> 0 | J36: =IF(AND(G268=0,K266<50000),1,0) -> 0 | K36: =PRODUCT(Лист1!C36,Лист1!F36) -> 0 | L36: =IF(AND(I268=0,G268=0),1,0) -> 0 | M36: =G36*H36+I36*J36+K36*L36 -> 0
G37: =PRODUCT(Лист1!D37,Лист1!C37) -> 0 | H37: =IF(I266<25000,1,0) -> 1 | I37: =PRODUCT(Лист1!C37,Лист1!E37) -> 0 | J37: =IF(AND(G268=0,K266<50000),1,0) -> 0 | K37: =PRODUCT(Лист1!C37,Лист1!F37) -> 0 | L37: =IF(AND(I268=0,G268=0),1,0) -> 0 | M37: =G37*H37+I37*J37+K37*L37 -> 0
G38: =PRODUCT(Лист1!D38,Лист1!C38) -> 0 | H38: =IF(I266<25000,1,0) -> 1 | I38: =PRODUCT(Лист1!C38,Лист1!E38) -> 0 | J38: =IF(AND(G268=0,K266<50000),1,0) -> 0 | K38: =PRODUCT(Лист1!C38,Лист1!F38) -> 0 | L38: =IF(AND(I268=0,G268=0),1,0) -> 0 | M38: =G38*H38+I38*J38+K38*L38 -> 0
G39: =PRODUCT(Лист1!D39,Лист1!C39) -> 0 | H39: =IF(I266<25000,1,0) -> 1 | I39: =PRODUCT(Лист1!C39,Лист1!E39) -> 0 | J39: =IF(AND(G268=0,K266<50000),1,0) -> 0 | K39: =PRODUCT(Лист1!C39,Лист1!F39) -> 0 | L39: =IF(AND(I268=0,G268=0),1,0) -> 0 | M39: =G39*H39+I39*J39+K39*L39 -> 0
G40: =PRODUCT(Лист1!D40,Лист1!C40) -> 0 | H40: =IF(I266<25000,1,0) -> 1 | I40: =PRODUCT(Лист1!C40,Лист1!E40) -> 0 | J40: =IF(AND(G268=0,K266<50000),1,0) -> 0 | K40: =PRODUCT(Лист1!C40,Лист1!F40) -> 0 | L40: =IF(AND(I268=0,G268=0),1,0) -> 0 | M40: =G40*H40+I40*J40+K40*L40 -> 0
G41: =PRODUCT(Лист1!D41,Лист1!C41) -> 0 | H41: =IF(I266<25000,1,0) -> 1 | I41: =PRODUCT(Лист1!C41,Лист1!E41) -> 0 | J41: =IF(AND(G268=0,K266<50000),1,0) -> 0 | K41: =PRODUCT(Лист1!C41,Лист1!F41) -> 0 | L41: =IF(AND(I268=0,G268=0),1,0) -> 0 | M41: =G41*H41+I41*J41+K41*L41 -> 0
G42: =PRODUCT(Лист1!D42,Лист1!C42) -> 0 | H42: =IF(I266<25000,1,0) -> 1 | I42: =PRODUCT(Лист1!C42,Лист1!E42) -> 0 | J42: =IF(AND(G268=0,K266<50000),1,0) -> 0 | K42: =PRODUCT(Лист1!C42,Лист1!F42) -> 0 | L42: =IF(AND(I268=0,G268=0),1,0) -> 0 | M42: =G42*H42+I42*J42+K42*L42 -> 0
G43: =PRODUCT(Лист1!D43,Лист1!C43) -> 0 | H43: =IF(I266<25000,1,0) -> 1 | I43: =PRODUCT(Лист1!C43,Лист1!E43) -> 0 | J43: =IF(AND(G268=0,K266<50000),1,0) -> 0 | K43: =PRODUCT(Лист1!C43,Лист1!F43) -> 0 | L43: =IF(AND(I268=0,G268=0),1,0) -> 0 | M43: =G43*H43+I43*J43+K43*L43 -> 0
G44: =PRODUCT(Лист1!D44,Лист1!C44) -> 0 | H44: =IF(I266<25000,1,0) -> 1 | I44: =PRODUCT(Лист1!C44,Лист1!E44) -> 0 | J44: =IF(AND(G268=0,K266<50000),1,0) -> 0 | K44: =PRODUCT(Лист1!C44,Лист1!F44) -> 0 | L44: =IF(AND(I268=0,G268=0),1,0) -> 0 | M44: =G44*H44+I44*J44+K44*L44 -> 0
G45: =PRODUCT(Лист1!D45,Лист1!C45) -> 0 | H45: =IF(I266<25000,1,0) -> 1 | I45: =PRODUCT(Лист1!C45,Лист1!E45) -> 0 | J45: =IF(AND(G268=0,K266<50000),1,0) -> 0 | K45: =PRODUCT(Лист1!C45,Лист1!F45) -> 0 | L45: =IF(AND(I268=0,G268=0),1,0) -> 0 | M45: =G45*H45+I45*J45+K45*L45 -> 0
G46: =PRODUCT(Лист1!D46,Лист1!C46) -> 0 | H46: =IF(I266<25000,1,0) -> 1 | I46: =PRODUCT(Лист1!C46,Лист1!E46) -> 0 | J46: =IF(AND(G268=0,K266<50000),1,0) -> 0 | K46: =PRODUCT(Лист1!C46,Лист1!F46) -> 0 | L46: =IF(AND(I268=0,G268=0),1,0) -> 0 | M46: =G46*H46+I46*J46+K46*L46 -> 0
G47: =PRODUCT(Лист1!D47,Лист1!C47) -> 0 | H47: =IF(I266<25000,1,0) -> 1 | I47: =PRODUCT(Лист1!C47,Лист1!E47) -> 0 | J47: =IF(AND(G268=0,K266<50000),1,0) -> 0 | K47: =PRODUCT(Лист1!C47,Лист1!F47) -> 0 | L47: =IF(AND(I268=0,G268=0),1,0) -> 0 | M47: =G47*H47+I47*J47+K47*L47 -> 0
G48: =PRODUCT(Лист1!D48,Лист1!C48) -> 0 | H48: =IF(I266<25000,1,0) -> 1 | I48: =PRODUCT(Лист1!C48,Лист1!E48) -> 0 | J48: =IF(AND(G268=0,K266<50000),1,0) -> 0 | K48: =PRODUCT(Лист1!C48,Лист1!F48) -> 0 | L48: =IF(AND(I268=0,G268=0),1,0) -> 0 | M48: =G48*H48+I48*J48+K48*L48 -> 0
G49: =PRODUCT(Лист1!D49,Лист1!C49) -> 0 | H49: =IF(I266<25000,1,0) -> 1 | I49: =PRODUCT(Лист1!C49,Лист1!E49) -> 0 | J49: =IF(AND(G268=0,K266<50000),1,0) -> 0 | K49: =PRODUCT(Лист1!C49,Лист1!F49) -> 0 | L49: =IF(AND(I268=0,G268=0),1,0) -> 0 | M49: =G49*H49+I49*J49+K49*L49 -> 0
G50: =PRODUCT(Лист1!D50,Лист1!C50) -> 0 | H50: =IF(I266<25000,1,0) -> 1 | I50: =PRODUCT(Лист1!C50,Лист1!E50) -> 0 | J50: =IF(AND(G268=0,K266<50000),1,0) -> 0 | K50: =PRODUCT(Лист1!C50,Лист1!F50) -> 0 | L50: =IF(AND(I268=0,G268=0),1,0) -> 0 | M50: =G50*H50+I50*J50+K50*L50 -> 0
G51: =PRODUCT(Лист1!D51,Лист1!C51) -> 0 | H51: =IF(I266<25000,1,0) -> 1 | I51: =PRODUCT(Лист1!C51,Лист1!E51) -> 0 | J51: =IF(AND(G268=0,K266<50000),1,0) -> 0 | K51: =PRODUCT(Лист1!C51,Лист1!F51) -> 0 | L51: =IF(AND(I268=0,G268=0),1,0) -> 0 | M51: =G51*H51+I51*J51+K51*L51 -> 0
G52: =PRODUCT(Лист1!D52,Лист1!C52) -> 0 | H52: =IF(I266<25000,1,0) -> 1 | I52: =PRODUCT(Лист1!C52,Лист1!E52) -> 0 | J52: =IF(AND(G268=0,K266<50000),1,0) -> 0 | K52: =PRODUCT(Лист1!C52,Лист1!F52) -> 0 | L52: =IF(AND(I268=0,G268=0),1,0) -> 0 | M52: =G52*H52+I52*J52+K52*L52 -> 0
G53: =PRODUCT(Лист1!D53,Лист1!C53) -> 0 | H53: =IF(I266<25000,1,0) -> 1 | I53: =PRODUCT(Лист1!C53,Лист1!E53) -> 0 | J53: =IF(AND(G268=0,K266<50000),1,0) -> 0 | K53: =PRODUCT(Лист1!C53,Лист1!F53) -> 0 | L53: =IF(AND(I268=0,G268=0),1,0) -> 0 | M53: =G53*H53+I53*J53+K53*L53 -> 0
G54: =PRODUCT(Лист1!D54,Лист1!C54) -> 0 | H54: =IF(I266<25000,1,0) -> 1 | I54: =PRODUCT(Лист1!C54,Лист1!E54) -> 0 | J54: =IF(AND(G268=0,K266<50000),1,0) -> 0 | K54: =PRODUCT(Лист1!C54,Лист1!F54) -> 0 | L54: =IF(AND(I268=0,G268=0),1,0) -> 0 | M54: =G54*H54+I54*J54+K54*L54 -> 0
G55: =PRODUCT(Лист1!D55,Лист1!C55) -> 0 | H55: =IF(I266<25000,1,0) -> 1 | I55: =PRODUCT(Лист1!C55,Лист1!E55) -> 0 | J55: =IF(AND(G268=0,K266<50000),1,0) -> 0 | K55: =PRODUCT(Лист1!C55,Лист1!F55) -> 0 | L55: =IF(AND(I268=0,G268=0),1,0) -> 0 | M55: =G55*H55+I55*J55+K55*L55 -> 0
G56: =PRODUCT(Лист1!D56,Лист1!C56) -> 0 | H56: =IF(I266<25000,1,0) -> 1 | I56: =PRODUCT(Лист1!C56,Лист1!E56) -> 0 | J56: =IF(AND(G268=0,K266<50000),1,0) -> 0 | K56: =PRODUCT(Лист1!C56,Лист1!F56) -> 0 | L56: =IF(AND(I268=0,G268=0),1,0) -> 0 | M56: =G56*H56+I56*J56+K56*L56 -> 0
G57: =PRODUCT(Лист1!D57,Лист1!C57) -> 0 | H57: =IF(I266<25000,1,0) -> 1 | I57: =PRODUCT(Лист1!C57,Лист1!E57) -> 0 | J57: =IF(AND(G268=0,K266<50000),1,0) -> 0 | K57: =PRODUCT(Лист1!C57,Лист1!F57) -> 0 | L57: =IF(AND(I268=0,G268=0),1,0) -> 0 | M57: =G57*H57+I57*J57+K57*L57 -> 0
G58: =PRODUCT(Лист1!D58,Лист1!C58) -> 0 | H58: =IF(I266<25000,1,0) -> 1 | I58: =PRODUCT(Лист1!C58,Лист1!E58) -> 0 | J58: =IF(AND(G268=0,K266<50000),1,0) -> 0 | K58: =PRODUCT(Лист1!C58,Лист1!F58) -> 0 | L58: =IF(AND(I268=0,G268=0),1,0) -> 0 | M58: =G58*H58+I58*J58+K58*L58 -> 0
G59: =PRODUCT(Лист1!D59,Лист1!C59) -> 0 | H59: =IF(I266<25000,1,0) -> 1 | I59: =PRODUCT(Лист1!C59,Лист1!E59) -> 0 | J59: =IF(AND(G268=0,K266<50000),1,0) -> 0 | K59: =PRODUCT(Лист1!C59,Лист1!F59) -> 0 | L59: =IF(AND(I268=0,G268=0),1,0) -> 0 | M59: =G59*H59+I59*J59+K59*L59 -> 0
G60: =PRODUCT(Лист1!D60,Лист1!C60) -> 0 | H60: =IF(I266<25000,1,0) -> 1 | I60: =PRODUCT(Лист1!C60,Лист1!E60) -> 0 | J60: =IF(AND(G268=0,K266<50000),1,0) -> 0 | K60: =PRODUCT(Лист1!C60,Лист1!F60) -> 0 | L60: =IF(AND(I268=0,G268=0),1,0) -> 0 | M60: =G60*H60+I60*J60+K60*L60 -> 0
G61: =PRODUCT(Лист1!D61,Лист1!C61) -> 0 | H61: =IF(I266<25000,1,0) -> 1 | I61: =PRODUCT(Лист1!C61,Лист1!E61) -> 0 | J61: =IF(AND(G268=0,K266<50000),1,0) -> 0 | K61: =PRODUCT(Лист1!C61,Лист1!F61) -> 0 | L61: =IF(AND(I268=0,G268=0),1,0) -> 0 | M61: =G61*H61+I61*J61+K61*L61 -> 0
G62: =PRODUCT(Лист1!D62,Лист1!C62) -> 0 | H62: =IF(I266<25000,1,0) -> 1 | I62: =PRODUCT(Лист1!C62,Лист1!E62) -> 0 | J62: =IF(AND(G268=0,K266<50000),1,0) -> 0 | K62: =PRODUCT(Лист1!C62,Лист1!F62) -> 0 | L62: =IF(AND(I268=0,G268=0),1,0) -> 0 | M62: =G62*H62+I62*J62+K62*L62 -> 0
G63: =PRODUCT(Лист1!D63,Лист1!C63) -> 0 | H63: =IF(I266<25000,1,0) -> 1 | I63: =PRODUCT(Лист1!C63,Лист1!E63) -> 0 | J63: =IF(AND(G268=0,K266<50000),1,0) -> 0 | K63: =PRODUCT(Лист1!C63,Лист1!F63) -> 0 | L63: =IF(AND(I268=0,G268=0),1,0) -> 0 | M63: =G63*H63+I63*J63+K63*L63 -> 0
G64: =PRODUCT(Лист1!D64,Лист1!C64) -> 0 | H64: =IF(I266<25000,1,0) -> 1 | I64: =PRODUCT(Лист1!C64,Лист1!E64) -> 0 | J64: =IF(AND(G268=0,K266<50000),1,0) -> 0 | K64: =PRODUCT(Лист1!C64,Лист1!F64) -> 0 | L64: =IF(AND(I268=0,G268=0),1,0) -> 0 | M64: =G64*H64+I64*J64+K64*L64 -> 0
G65: =PRODUCT(Лист1!D65,Лист1!C65) -> 0 | H65: =IF(I266<25000,1,0) -> 1 | I65: =PRODUCT(Лист1!C65,Лист1!E65) -> 0 | J65: =IF(AND(G268=0,K266<50000),1,0) -> 0 | K65: =PRODUCT(Лист1!C65,Лист1!F65) -> 0 | L65: =IF(AND(I268=0,G268=0),1,0) -> 0 | M65: =G65*H65+I65*J65+K65*L65 -> 0
G66: =PRODUCT(Лист1!D66,Лист1!C66) -> 0 | H66: =IF(I266<25000,1,0) -> 1 | I66: =PRODUCT(Лист1!C66,Лист1!E66) -> 0 | J66: =IF(AND(G268=0,K266<50000),1,0) -> 0 | K66: =PRODUCT(Лист1!C66,Лист1!F66) -> 0 | L66: =IF(AND(I268=0,G268=0),1,0) -> 0 | M66: =G66*H66+I66*J66+K66*L66 -> 0
G67: =PRODUCT(Лист1!D67,Лист1!C67) -> 0 | H67: =IF(I266<25000,1,0) -> 1 | I67: =PRODUCT(Лист1!C67,Лист1!E67) -> 0 | J67: =IF(AND(G268=0,K266<50000),1,0) -> 0 | K67: =PRODUCT(Лист1!C67,Лист1!F67) -> 0 | L67: =IF(AND(I268=0,G268=0),1,0) -> 0 | M67: =G67*H67+I67*J67+K67*L67 -> 0
G68: =PRODUCT(Лист1!D68,Лист1!C68) -> 0 | H68: =IF(I266<25000,1,0) -> 1 | I68: =PRODUCT(Лист1!C68,Лист1!E68) -> 0 | J68: =IF(AND(G268=0,K266<50000),1,0) -> 0 | K68: =PRODUCT(Лист1!C68,Лист1!F68) -> 0 | L68: =IF(AND(I268=0,G268=0),1,0) -> 0 | M68: =G68*H68+I68*J68+K68*L68 -> 0
G69: =PRODUCT(Лист1!D69,Лист1!C69) -> 0 | H69: =IF(I266<25000,1,0) -> 1 | I69: =PRODUCT(Лист1!C69,Лист1!E69) -> 0 | J69: =IF(AND(G268=0,K266<50000),1,0) -> 0 | K69: =PRODUCT(Лист1!C69,Лист1!F69) -> 0 | L69: =IF(AND(I268=0,G268=0),1,0) -> 0 | M69: =G69*H69+I69*J69+K69*L69 -> 0
G70: =PRODUCT(Лист1!D70,Лист1!C70) -> 0 | H70: =IF(I266<25000,1,0) -> 1 | I70: =PRODUCT(Лист1!C70,Лист1!E70) -> 0 | J70: =IF(AND(G268=0,K266<50000),1,0) -> 0 | K70: =PRODUCT(Лист1!C70,Лист1!F70) -> 0 | L70: =IF(AND(I268=0,G268=0),1,0) -> 0 | M70: =G70*H70+I70*J70+K70*L70 -> 0
G71: =PRODUCT(Лист1!D71,Лист1!C71) -> 0 | H71: =IF(I266<25000,1,0) -> 1 | I71: =PRODUCT(Лист1!C71,Лист1!E71) -> 0 | J71: =IF(AND(G268=0,K266<50000),1,0) -> 0 | K71: =PRODUCT(Лист1!C71,Лист1!F71) -> 0 | L71: =IF(AND(I268=0,G268=0),1,0) -> 0 | M71: =G71*H71+I71*J71+K71*L71 -> 0
G72: =PRODUCT(Лист1!D72,Лист1!C72) -> 0 | H72: =IF(I266<25000,1,0) -> 1 | I72: =PRODUCT(Лист1!C72,Лист1!E72) -> 0 | J72: =IF(AND(G268=0,K266<50000),1,0) -> 0 | K72: =PRODUCT(Лист1!C72,Лист1!F72) -> 0 | L72: =IF(AND(I268=0,G268=0),1,0) -> 0 | M72: =G72*H72+I72*J72+K72*L72 -> 0
G73: =PRODUCT(Лист1!D73,Лист1!C73) -> 0 | H73: =IF(I266<25000,1,0) -> 1 | I73: =PRODUCT(Лист1!C73,Лист1!E73) -> 0 | J73: =IF(AND(G268=0,K266<50000),1,0) -> 0 | K73: =PRODUCT(Лист1!C73,Лист1!F73) -> 0 | L73: =IF(AND(I268=0,G268=0),1,0) -> 0 | M73: =G73*H73+I73*J73+K73*L73 -> 0
G74: =PRODUCT(Лист1!D74,Лист1!C74) -> 0 | H74: =IF(I266<25000,1,0) -> 1 | I74: =PRODUCT(Лист1!C74,Лист1!E74) -> 0 | J74: =IF(AND(G268=0,K266<50000),1,0) -> 0 | K74: =PRODUCT(Лист1!C74,Лист1!F74) -> 0 | L74: =IF(AND(I268=0,G268=0),1,0) -> 0 | M74: =G74*H74+I74*J74+K74*L74 -> 0
G75: =PRODUCT(Лист1!D75,Лист1!C75) -> 0 | H75: =IF(I266<25000,1,0) -> 1 | I75: =PRODUCT(Лист1!C75,Лист1!E75) -> 0 | J75: =IF(AND(G268=0,K266<50000),1,0) -> 0 | K75: =PRODUCT(Лист1!C75,Лист1!F75) -> 0 | L75: =IF(AND(I268=0,G268=0),1,0) -> 0 | M75: =G75*H75+I75*J75+K75*L75 -> 0
G76: =PRODUCT(Лист1!D76,Лист1!C76) -> 0 | H76: =IF(I266<25000,1,0) -> 1 | I76: =PRODUCT(Лист1!C76,Лист1!E76) -> 0 | J76: =IF(AND(G268=0,K266<50000),1,0) -> 0 | K76: =PRODUCT(Лист1!C76,Лист1!F76) -> 0 | L76: =IF(AND(I268=0,G268=0),1,0) -> 0 | M76: =G76*H76+I76*J76+K76*L76 -> 0
G77: =PRODUCT(Лист1!D77,Лист1!C77) -> 0 | H77: =IF(I266<25000,1,0) -> 1 | I77: =PRODUCT(Лист1!C77,Лист1!E77) -> 0 | J77: =IF(AND(G268=0,K266<50000),1,0) -> 0 | K77: =PRODUCT(Лист1!C77,Лист1!F77) -> 0 | L77: =IF(AND(I268=0,G268=0),1,0) -> 0 | M77: =G77*H77+I77*J77+K77*L77 -> 0
G78: =PRODUCT(Лист1!D78,Лист1!C78) -> 0 | H78: =IF(I266<25000,1,0) -> 1 | I78: =PRODUCT(Лист1!C78,Лист1!E78) -> 0 | J78: =IF(AND(G268=0,K266<50000),1,0) -> 0 | K78: =PRODUCT(Лист1!C78,Лист1!F78) -> 0 | L78: =IF(AND(I268=0,G268=0),1,0) -> 0 | M78: =G78*H78+I78*J78+K78*L78 -> 0
G79: =PRODUCT(Лист1!D79,Лист1!C79) -> 0 | H79: =IF(I266<25000,1,0) -> 1 | I79: =PRODUCT(Лист1!C79,Лист1!E79) -> 0 | J79: =IF(AND(G268=0,K266<50000),1,0) -> 0 | K79: =PRODUCT(Лист1!C79,Лист1!F79) -> 0 | L79: =IF(AND(I268=0,G268=0),1,0) -> 0 | M79: =G79*H79+I79*J79+K79*L79 -> 0
G80: =PRODUCT(Лист1!D80,Лист1!C80) -> 0 | H80: =IF(I266<25000,1,0) -> 1 | I80: =PRODUCT(Лист1!C80,Лист1!E80) -> 0 | J80: =IF(AND(G268=0,K266<50000),1,0) -> 0 | K80: =PRODUCT(Лист1!C80,Лист1!F80) -> 0 | L80: =IF(AND(I268=0,G268=0),1,0) -> 0 | M80: =G80*H80+I80*J80+K80*L80 -> 0
G81: =PRODUCT(Лист1!D81,Лист1!C81) -> 0 | H81: =IF(I266<25000,1,0) -> 1 | I81: =PRODUCT(Лист1!C81,Лист1!E81) -> 0 | J81: =IF(AND(G268=0,K266<50000),1,0) -> 0 | K81: =PRODUCT(Лист1!C81,Лист1!F81) -> 0 | L81: =IF(AND(I268=0,G268=0),1,0) -> 0 | M81: =G81*H81+I81*J81+K81*L81 -> 0
G82: =PRODUCT(Лист1!D82,Лист1!C82) -> 0 | H82: =IF(I266<25000,1,0) -> 1 | I82: =PRODUCT(Лист1!C82,Лист1!E82) -> 0 | J82: =IF(AND(G268=0,K266<50000),1,0) -> 0 | K82: =PRODUCT(Лист1!C82,Лист1!F82) -> 0 | L82: =IF(AND(I268=0,G268=0),1,0) -> 0 | M82: =G82*H82+I82*J82+K82*L82 -> 0
G83: =PRODUCT(Лист1!D83,Лист1!C83) -> 0 | H83: =IF(I266<25000,1,0) -> 1 | I83: =PRODUCT(Лист1!C83,Лист1!E83) -> 0 | J83: =IF(AND(G268=0,K266<50000),1,0) -> 0 | K83: =PRODUCT(Лист1!C83,Лист1!F83) -> 0 | L83: =IF(AND(I268=0,G268=0),1,0) -> 0 | M83: =G83*H83+I83*J83+K83*L83 -> 0
G84: =PRODUCT(Лист1!D84,Лист1!C84) -> 0 | H84: =IF(I266<25000,1,0) -> 1 | I84: =PRODUCT(Лист1!C84,Лист1!E84) -> 0 | J84: =IF(AND(G268=0,K266<50000),1,0) -> 0 | K84: =PRODUCT(Лист1!C84,Лист1!F84) -> 0 | L84: =IF(AND(I268=0,G268=0),1,0) -> 0 | M84: =G84*H84+I84*J84+K84*L84 -> 0
G85: =PRODUCT(Лист1!D85,Лист1!C85) -> 0 | H85: =IF(I266<25000,1,0) -> 1 | I85: =PRODUCT(Лист1!C85,Лист1!E85) -> 0 | J85: =IF(AND(G268=0,K266<50000),1,0) -> 0 | K85: =PRODUCT(Лист1!C85,Лист1!F85) -> 0 | L85: =IF(AND(I268=0,G268=0),1,0) -> 0 | M85: =G85*H85+I85*J85+K85*L85 -> 0
G86: =PRODUCT(Лист1!D86,Лист1!C86) -> 0 | H86: =IF(I266<25000,1,0) -> 1 | I86: =PRODUCT(Лист1!C86,Лист1!E86) -> 0 | J86: =IF(AND(G268=0,K266<50000),1,0) -> 0 | K86: =PRODUCT(Лист1!C86,Лист1!F86) -> 0 | L86: =IF(AND(I268=0,G268=0),1,0) -> 0 | M86: =G86*H86+I86*J86+K86*L86 -> 0
G87: =PRODUCT(Лист1!D87,Лист1!C87) -> 0 | H87: =IF(I266<25000,1,0) -> 1 | I87: =PRODUCT(Лист1!C87,Лист1!E87) -> 0 | J87: =IF(AND(G268=0,K266<50000),1,0) -> 0 | K87: =PRODUCT(Лист1!C87,Лист1!F87) -> 0 | L87: =IF(AND(I268=0,G268=0),1,0) -> 0 | M87: =G87*H87+I87*J87+K87*L87 -> 0
G88: =PRODUCT(Лист1!D88,Лист1!C88) -> 0 | H88: =IF(I266<25000,1,0) -> 1 | I88: =PRODUCT(Лист1!C88,Лист1!E88) -> 0 | J88: =IF(AND(G268=0,K266<50000),1,0) -> 0 | K88: =PRODUCT(Лист1!C88,Лист1!F88) -> 0 | L88: =IF(AND(I268=0,G268=0),1,0) -> 0 | M88: =G88*H88+I88*J88+K88*L88 -> 0
G89: =PRODUCT(Лист1!D89,Лист1!C89) -> 0 | H89: =IF(I266<25000,1,0) -> 1 | I89: =PRODUCT(Лист1!C89,Лист1!E89) -> 0 | J89: =IF(AND(G268=0,K266<50000),1,0) -> 0 | K89: =PRODUCT(Лист1!C89,Лист1!F89) -> 0 | L89: =IF(AND(I268=0,G268=0),1,0) -> 0 | M89: =G89*H89+I89*J89+K89*L89 -> 0
G90: =PRODUCT(Лист1!D90,Лист1!C90) -> 0 | H90: =IF(I266<25000,1,0) -> 1 | I90: =PRODUCT(Лист1!C90,Лист1!E90) -> 0 | J90: =IF(AND(G268=0,K266<50000),1,0) -> 0 | K90: =PRODUCT(Лист1!C90,Лист1!F90) -> 0 | L90: =IF(AND(I268=0,G268=0),1,0) -> 0 | M90: =G90*H90+I90*J90+K90*L90 -> 0
G91: =PRODUCT(Лист1!D91,Лист1!C91) -> 0 | H91: =IF(I266<25000,1,0) -> 1 | I91: =PRODUCT(Лист1!C91,Лист1!E91) -> 0 | J91: =IF(AND(G268=0,K266<50000),1,0) -> 0 | K91: =PRODUCT(Лист1!C91,Лист1!F91) -> 0 | L91: =IF(AND(I268=0,G268=0),1,0) -> 0 | M91: =G91*H91+I91*J91+K91*L91 -> 0
G92: =PRODUCT(Лист1!D92,Лист1!C92) -> 0 | H92: =IF(I266<25000,1,0) -> 1 | I92: =PRODUCT(Лист1!C92,Лист1!E92) -> 0 | J92: =IF(AND(G268=0,K266<50000),1,0) -> 0 | K92: =PRODUCT(Лист1!C92,Лист1!F92) -> 0 | L92: =IF(AND(I268=0,G268=0),1,0) -> 0 | M92: =G92*H92+I92*J92+K92*L92 -> 0
G93: =PRODUCT(Лист1!D93,Лист1!C93) -> 0 | H93: =IF(I266<25000,1,0) -> 1 | I93: =PRODUCT(Лист1!C93,Лист1!E93) -> 0 | J93: =IF(AND(G268=0,K266<50000),1,0) -> 0 | K93: =PRODUCT(Лист1!C93,Лист1!F93) -> 0 | L93: =IF(AND(I268=0,G268=0),1,0) -> 0 | M93: =G93*H93+I93*J93+K93*L93 -> 0
G94: =PRODUCT(Лист1!D94,Лист1!C94) -> 0 | H94: =IF(I266<25000,1,0) -> 1 | I94: =PRODUCT(Лист1!C94,Лист1!E94) -> 0 | J94: =IF(AND(G268=0,K266<50000),1,0) -> 0 | K94: =PRODUCT(Лист1!C94,Лист1!F94) -> 0 | L94: =IF(AND(I268=0,G268=0),1,0) -> 0 | M94: =G94*H94+I94*J94+K94*L94 -> 0
G95: =PRODUCT(Лист1!D95,Лист1!C95) -> 0 | H95: =IF(I266<25000,1,0) -> 1 | I95: =PRODUCT(Лист1!C95,Лист1!E95) -> 0 | J95: =IF(AND(G268=0,K266<50000),1,0) -> 0 | K95: =PRODUCT(Лист1!C95,Лист1!F95) -> 0 | L95: =IF(AND(I268=0,G268=0),1,0) -> 0 | M95: =G95*H95+I95*J95+K95*L95 -> 0
G96: =PRODUCT(Лист1!D96,Лист1!C96) -> 0 | H96: =IF(I266<25000,1,0) -> 1 | I96: =PRODUCT(Лист1!C96,Лист1!E96) -> 0 | J96: =IF(AND(G268=0,K266<50000),1,0) -> 0 | K96: =PRODUCT(Лист1!C96,Лист1!F96) -> 0 | L96: =IF(AND(I268=0,G268=0),1,0) -> 0 | M96: =G96*H96+I96*J96+K96*L96 -> 0
G97: =PRODUCT(Лист1!D97,Лист1!C97) -> 0 | H97: =IF(I266<25000,1,0) -> 1 | I97: =PRODUCT(Лист1!C97,Лист1!E97) -> 0 | J97: =IF(AND(G268=0,K266<50000),1,0) -> 0 | K97: =PRODUCT(Лист1!C97,Лист1!F97) -> 0 | L97: =IF(AND(I268=0,G268=0),1,0) -> 0 | M97: =G97*H97+I97*J97+K97*L97 -> 0
G98: =PRODUCT(Лист1!D98,Лист1!C98) -> 0 | H98: =IF(I266<25000,1,0) -> 1 | I98: =PRODUCT(Лист1!C98,Лист1!E98) -> 0 | J98: =IF(AND(G268=0,K266<50000),1,0) -> 0 | K98: =PRODUCT(Лист1!C98,Лист1!F98) -> 0 | L98: =IF(AND(I268=0,G268=0),1,0) -> 0 | M98: =G98*H98+I98*J98+K98*L98 -> 0
G99: =PRODUCT(Лист1!D99,Лист1!C99) -> 0 | H99: =IF(I266<25000,1,0) -> 1 | I99: =PRODUCT(Лист1!C99,Лист1!E99) -> 0 | J99: =IF(AND(G268=0,K266<50000),1,0) -> 0 | K99: =PRODUCT(Лист1!C99,Лист1!F99) -> 0 | L99: =IF(AND(I268=0,G268=0),1,0) -> 0 | M99: =G99*H99+I99*J99+K99*L99 -> 0
G100: =PRODUCT(Лист1!D100,Лист1!C100) -> 0 | H100: =IF(I266<25000,1,0) -> 1 | I100: =PRODUCT(Лист1!C100,Лист1!E100) -> 0 | J100: =IF(AND(G268=0,K266<50000),1,0) -> 0 | K100: =PRODUCT(Лист1!C100,Лист1!F100) -> 0 | L100: =IF(AND(I268=0,G268=0),1,0) -> 0 | M100: =G100*H100+I100*J100+K100*L100 -> 0
G101: =PRODUCT(Лист1!D101,Лист1!C101) -> 0 | H101: =IF(I266<25000,1,0) -> 1 | I101: =PRODUCT(Лист1!C101,Лист1!E101) -> 0 | J101: =IF(AND(G268=0,K266<50000),1,0) -> 0 | K101: =PRODUCT(Лист1!C101,Лист1!F101) -> 0 | L101: =IF(AND(I268=0,G268=0),1,0) -> 0 | M101: =G101*H101+I101*J101+K101*L101 -> 0
G102: =PRODUCT(Лист1!D102,Лист1!C102) -> 0 | H102: =IF(I266<25000,1,0) -> 1 | I102: =PRODUCT(Лист1!C102,Лист1!E102) -> 0 | J102: =IF(AND(G268=0,K266<50000),1,0) -> 0 | K102: =PRODUCT(Лист1!C102,Лист1!F102) -> 0 | L102: =IF(AND(I268=0,G268=0),1,0) -> 0 | M102: =G102*H102+I102*J102+K102*L102 -> 0
G103: =PRODUCT(Лист1!D103,Лист1!C103) -> 0 | H103: =IF(I266<25000,1,0) -> 1 | I103: =PRODUCT(Лист1!C103,Лист1!E103) -> 0 | J103: =IF(AND(G268=0,K266<50000),1,0) -> 0 | K103: =PRODUCT(Лист1!C103,Лист1!F103) -> 0 | L103: =IF(AND(I268=0,G268=0),1,0) -> 0 | M103: =G103*H103+I103*J103+K103*L103 -> 0
...

Sheet Лист3
