Workbook

Sheet Лист1
A1: www.ДляЦветов.рф | B1: Клуб Настоящих ЦветоМанов РОСТОК | E1: rostok_vrn
CF2: Примерные размеры упаковки
A3: наименование | B3: размер | C3: кол. | D3: цена от 15000 | E3: цена от 25000 | F3: цена от 50000 | G3: стоимость | I3: ИТОГОВАЯ СУММА | CD3: вес | CE3: объем | CF3: размер | CG3: размер | CH3: размер | CI3: суммарный объем изделий | CJ3: суммарный вес изделий
A4: НА ПОДОКОННИК
A5: Березка_10 | B5: 1,2-1,3м | C5: 0 | D5: 1430 | E5: 1350 | F5: 1300 | G5: =Лист2!M5 -> 0 | I5: Итоговая сумма: | J5: =SUM(G4:G278) -> 350 | K5: руб | CD5: 3 | CE5: =PRODUCT(CF5,CG5,CH5) -> 0.0312 | CF5: 1.2 | CG5: 0.2 | CH5: 0.13 | CI5: =PRODUCT(CE5,C5) -> 0 | CJ5: =PRODUCT(CD5,C5) -> 0
A6: Распорная подставка на 10 держателей | B6: 1,3-1,4м | C6: 0 | D6: 1430 | E6: 1350 | F6: 1300 | G6: =Лист2!M6 -> 0 | CD6: 3 | CE6: =PRODUCT(CF6,CG6,CH6) -> 0.0312 | CF6: 1.2 | CG6: 0.2 | CH6: 0.13 | CI6: =PRODUCT(CE6,C6) -> 0 | CJ6: =PRODUCT(CD6,C6) -> 0
B7: 1,4-1,5м | C7: 0 | D7: 1430 | E7: 1350 | F7: 1300 | G7: =Лист2!M7 -> 0 | I7: Примерный вес Вашего заказа: | K7: =CJ267 -> 1 | CD7: 3 | CE7: =PRODUCT(CF7,CG7,CH7) -> 0.0312 | CF7: 1.2 | CG7: 0.2 | CH7: 0.13 | CI7: =PRODUCT(CE7,C7) -> 0 | CJ7: =PRODUCT(CD7,C7) -> 0
B8: 1,5-1,6м | C8: 0 | D8: 1430 | E8: 1350 | F8: 1300 | G8: =Лист2!M8 -> 0 | I8: Примерный объем Вашего заказа | K8: =CI267 -> 0 | CD8: 3 | CE8: =PRODUCT(CF8,CG8,CH8) -> 0.0312 | CF8: 1.2 | CG8: 0.2 | CH8: 0.13 | CI8: =PRODUCT(CE8,C8) -> 0 | CJ8: =PRODUCT(CD8,C8) -> 0
B9: 1,6-1,7м | C9: 0 | D9: 1430 | E9: 1350 | F9: 1300 | G9: =Лист2!M9 -> 0 | CD9: 3 | CE9: =PRODUCT(CF9,CG9,CH9) -> 0.0312 | CF9: 1.2 | CG9: 0.2 | CH9: 0.13 | CI9: =PRODUCT(CE9,C9) -> 0 | CJ9: =PRODUCT(CD9,C9) -> 0
B10: под заказ | C10: 0 | D10: 1430 | E10: 1350 | F10: 1300 | G10: =Лист2!M10 -> 0 | I10: *общая стоимость товаров 2ой и 3ей колонки | CD10: 3 | CE10: =PRODUCT(CF10,CG10,CH10) -> 0.0312 | CF10: 1.2 | CG10: 0.2 | CH10: 0.13 | CI10: =PRODUCT(CE10,C10) -> 0 | CJ10: =PRODUCT(CD10,C10) -> 0
C11: 0 | G11: =Лист2!M11 -> 0 | I11: считается по ценам соответствующей колонки | CD11: 0 | CE11: =PRODUCT(CF11,CG11,CH11) -> 0 | CI11: =PRODUCT(CE11,C11) -> 0 | CJ11: =PRODUCT(CD11,C11) -> 0
A12: Березка_10наклон | B12: 1,2-1,3м | C12: 0 | D12: 1680 | E12: 1610 | F12: 1550 | G12: =Лист2!M12 -> 0 | I12: То есть, чтобы цены заказа попали во вторую колонку, | CD12: 3 | CE12: =PRODUCT(CF12,CG12,CH12) -> 0.0312 | CF12: 1.2 | CG12: 0.2 | CH12: 0.13 | CI12: =PRODUCT(CE12,C12) -> 0 | CJ12: =PRODUCT(CD12,C12) -> 0
A13: Распорная подставка на 10 держателей, | B13: 1,3-1,4м | C13: 0 | D13: 1680 | E13: 1610 | F13: 1500 | G13: =Лист2!M13 -> 0 | I13: 25000 должно быть достигнуто по ценам второй колонки | CD13: 3 | CE13: =PRODUCT(CF13,CG13,CH13) -> 0.0312 | CF13: 1.2 | CG13: 0.2 | CH13: 0.13 | CI13: =PRODUCT(CE13,C13) -> 0 | CJ13: =PRODUCT(CD13,C13) -> 0
A14: если верний откос под наклоном | B14: 1,4-1,5м | C14: 0 | D14: 1680 | E14: 1610 | F14: 1500 | G14: =Лист2!M14 -> 0 | CD14: 3 | CE14: =PRODUCT(CF14,CG14,CH14) -> 0.0312 | CF14: 1.2 | CG14: 0.2 | CH14: 0.13 | CI14: =PRODUCT(CE14,C14) -> 0 | CJ14: =PRODUCT(CD14,C14) -> 0
B15: 1,5-1,6м | C15: 0 | D15: 1680 | E15: 1610 | F15: 1500 | G15: =Лист2!M15 -> 0 | CD15: 3 | CE15: =PRODUCT(CF15,CG15,CH15) -> 0.0312 | CF15: 1.2 | CG15: 0.2 | CH15: 0.13 | CI15: =PRODUCT(CE15,C15) -> 0 | CJ15: =PRODUCT(CD15,C15) -> 0
B16: 1,6-1,7м | C16: 0 | D16: 1680 | E16: 1610 | F16: 1500 | G16: =Лист2!M16 -> 0 | CD16: 3 | CE16: =PRODUCT(CF16,CG16,CH16) -> 0.0312 | CF16: 1.2 | CG16: 0.2 | CH16: 0.13 | CI16: =PRODUCT(CE16,C16) -> 0 | CJ16: =PRODUCT(CD16,C16) -> 0
B17: под заказ | C17: 0 | D17: 1880 | E17: 1710 | F17: 1700 | G17: =Лист2!M17 -> 0 | CD17: 3 | CE17: =PRODUCT(CF17,CG17,CH17) -> 0.0312 | CF17: 1.2 | CG17: 0.2 | CH17: 0.13 | CI17: =PRODUCT(CE17,C17) -> 0 | CJ17: =PRODUCT(CD17,C17) -> 0
C18: 0 | G18: =Лист2!M18 -> 0 | CD18: 0 | CE18: =PRODUCT(CF18,CG18,CH18) -> 0 | CI18: =PRODUCT(CE18,C18) -> 0 | CJ18: =PRODUCT(CD18,C18) -> 0
A19: Осина_5 | B19: 1,2-1,3м | C19: 0 | D19: 1240 | E19: 1140 | F19: 1090 | G19: =Лист2!M19 -> 0 | I19: УСЛОВИЯ ДОСТАВКИ | CD19: 3 | CE19: =PRODUCT(CF19,CG19,CH19) -> 0.0312 | CF19: 1.2 | CG19: 0.2 | CH19: 0.13 | CI19: =PRODUCT(CE19,C19) -> 0 | CJ19: =PRODUCT(CD19,C19) -> 0
A20: Распорная подставка на 5 держателей, | B20: 1,3-1,4м | C20: 0 | D20: 1240 | E20: 1140 | F20: 1090 | G20: =Лист2!M20 -> 0 | CD20: 3 | CE20: =PRODUCT(CF20,CG20,CH20) -> 0.0312 | CF20: 1.2 | CG20: 0.2 | CH20: 0.13 | CI20: =PRODUCT(CE20,C20) -> 0 | CJ20: =PRODUCT(CD20,C20) -> 0
A21: для крупных растений | B21: 1,4-1,5м | C21: 0 | D21: 1240 | E21: 1140 | F21: 1090 | G21: =Лист2!M21 -> 0 | I21: Доставка осуществлятся транспортными компаниями | CD21: 3 | CE21: =PRODUCT(CF21,CG21,CH21) -> 0.0312 | CF21: 1.2 | CG21: 0.2 | CH21: 0.13 | CI21: =PRODUCT(CE21,C21) -> 0 | CJ21: =PRODUCT(CD21,C21) -> 0
B22: 1,5-1,6м | C22: 0 | D22: 1240 | E22: 1140 | F22: 1090 | G22: =Лист2!M22 -> 0 | CD22: 3 | CE22: =PRODUCT(CF22,CG22,CH22) -> 0.0312 | CF22: 1.2 | CG22: 0.2 | CH22: 0.13 | CI22: =PRODUCT(CE22,C22) -> 0 | CJ22: =PRODUCT(CD22,C22) -> 0
B23: 1,6-1,7м | C23: 0 | D23: 1240 | E23: 1140 | F23: 1090 | G23: =Лист2!M23 -> 0 | I23: Доставка до терминала ТК ПЭК | CD23: 3 | CE23: =PRODUCT(CF23,CG23,CH23) -> 0.0312 | CF23: 1.2 | CG23: 0.2 | CH23: 0.13 | CI23: =PRODUCT(CE23,C23) -> 0 | CJ23: =PRODUCT(CD23,C23) -> 0
B24: под заказ | C24: 0 | D24: 1440 | E24: 1340 | F24: 1290 | G24: =Лист2!M24 -> 0 | J24: заказы от 15000 | K24: 350 | CD24: 3 | CE24: =PRODUCT(CF24,CG24,CH24) -> 0.0312 | CF24: 1.2 | CG24: 0.2 | CH24: 0.13 | CI24: =PRODUCT(CE24,C24) -> 0 | CJ24: =PRODUCT(CD24,C24) -> 0
C25: 0 | G25: =Лист2!M25 -> 0 | J25: заказы от 25000 | K25: 450 | CD25: 0 | CE25: =PRODUCT(CF25,CG25,CH25) -> 0 | CI25: =PRODUCT(CE25,C25) -> 0 | CJ25: =PRODUCT(CD25,C25) -> 0
A26: Осина_5наклон | B26: 1,2-1,3м | C26: 0 | D26: 1490 | E26: 1300 | F26: 1250 | G26: =Лист2!M26 -> 0 | J26: заказы от 50000 | K26: 500 | CD26: 3 | CE26: =PRODUCT(CF26,CG26,CH26) -> 0.0312 | CF26: 1.2 | CG26: 0.2 | CH26: 0.13 | CI26: =PRODUCT(CE26,C26) -> 0 | CJ26: =PRODUCT(CD26,C26) -> 0
A27: Распорная подставка на 5 держателей, | B27: 1,3-1,4м | C27: 0 | D27: 1490 | E27: 1300 | F27: 1250 | G27: =Лист2!M27 -> 0 | J27: заказы от 80000 | K27: 700 | CD27: 3 | CE27: =PRODUCT(CF27,CG27,CH27) -> 0.0312 | CF27: 1.2 | CG27: 0.2 | CH27: 0.13 | CI27: =PRODUCT(CE27,C27) -> 0 | CJ27: =PRODUCT(CD27,C27) -> 0
A28: для крупных растений | B28: 1,4-1,5м | C28: 0 | D28: 1490 | E28: 1300 | F28: 1250 | G28: =Лист2!M28 -> 0 | J28: заказы от 100000 | K28: 1200 | CD28: 3 | CE28: =PRODUCT(CF28,CG28,CH28) -> 0.0312 | CF28: 1.2 | CG28: 0.2 | CH28: 0.13 | CI28: =PRODUCT(CE28,C28) -> 0 | CJ28: =PRODUCT(CD28,C28) -> 0
A29: если верхний откос под наклоном | B29: 1,5-1,6м | C29: 0 | D29: 1490 | E29: 1300 | F29: 1250 | G29: =Лист2!M29 -> 0 | CD29: 3 | CE29: =PRODUCT(CF29,CG29,CH29) -> 0.0312 | CF29: 1.2 | CG29: 0.2 | CH29: 0.13 | CI29: =PRODUCT(CE29,C29) -> 0 | CJ29: =PRODUCT(CD29,C29) -> 0
B30: 1,6-1,7м | C30: 0 | D30: 1490 | E30: 1300 | F30: 1250 | G30: =Лист2!M30 -> 0 | I30: Доставка до терминала ТК ЭНЕРГИЯ, ДЕЛОВЫЕ ЛИНИИ, | CD30: 3 | CE30: =PRODUCT(CF30,CG30,CH30) -> 0.0312 | CF30: 1.2 | CG30: 0.2 | CH30: 0.13 | CI30: =PRODUCT(CE30,C30) -> 0 | CJ30: =PRODUCT(CD30,C30) -> 0
B31: под заказ | C31: 0 | D31: 1690 | E31: 1500 | F31: 1450 | G31: =Лист2!M31 -> 0 | I31: РАТЭК , БАЙКАЛ-СЕРВИС, СДЭК И ДР. | CD31: 3 | CE31: =PRODUCT(CF31,CG31,CH31) -> 0.0312 | CF31: 1.2 | CG31: 0.2 | CH31: 0.13 | CI31: =PRODUCT(CE31,C31) -> 0 | CJ31: =PRODUCT(CD31,C31) -> 0
C32: 0 | G32: =Лист2!M32 -> 0 | J32: заказы от 15000 | K32: 450 | CD32: 0 | CE32: =PRODUCT(CF32,CG32,CH32) -> 0 | CI32: =PRODUCT(CE32,C32) -> 0 | CJ32: =PRODUCT(CD32,C32) -> 0
A33: Березка_12 | B33: 1,2-1,3м | C33: 0 | D33: 1680 | E33: 1590 | F33: 1500 | G33: =Лист2!M33 -> 0 | J33: заказы от 25000 | K33: 650 | CD33: 4 | CE33: =PRODUCT(CF33,CG33,CH33) -> 0.0312 | CF33: 1.2 | CG33: 0.2 | CH33: 0.13 | CI33: =PRODUCT(CE33,C33) -> 0 | CJ33: =PRODUCT(CD33,C33) -> 0
A34: Распорная подставка на 12 держателей | B34: 1,3-1,4м | C34: 0 | D34: 1680 | E34: 1590 | F34: 1500 | G34: =Лист2!M34 -> 0 | J34: заказы от 50000 | K34: 700 | CD34: 4 | CE34: =PRODUCT(CF34,CG34,CH34) -> 0.0312 | CF34: 1.2 | CG34: 0.2 | CH34: 0.13 | CI34: =PRODUCT(CE34,C34) -> 0 | CJ34: =PRODUCT(CD34,C34) -> 0
B35: 1,4-1,5м | C35: 0 | D35: 1680 | E35: 1590 | F35: 1500 | G35: =Лист2!M35 -> 0 | J35: заказы от 80000 | K35: 800 | CD35: 4 | CE35: =PRODUCT(CF35,CG35,CH35) -> 0.0312 | CF35: 1.2 | CG35: 0.2 | CH35: 0.13 | CI35: =PRODUCT(CE35,C35) -> 0 | CJ35: =PRODUCT(CD35,C35) -> 0
B36: 1,5-1,6м | C36: 0 | D36: 1680 | E36: 1590 | F36: 1500 | G36: =Лист2!M36 -> 0 | J36: заказы от 100000 | K36: 1400 | CD36: 4 | CE36: =PRODUCT(CF36,CG36,CH36) -> 0.0312 | CF36: 1.2 | CG36: 0.2 | CH36: 0.13 | CI36: =PRODUCT(CE36,C36) -> 0 | CJ36: =PRODUCT(CD36,C36) -> 0
B37: 1,6-1,7м | C37: 0 | D37: 1680 | E37: 1590 | F37: 1500 | G37: =Лист2!M37 -> 0 | CD37: 4 | CE37: =PRODUCT(CF37,CG37,CH37) -> 0.0312 | CF37: 1.2 | CG37: 0.2 | CH37: 0.13 | CI37: =PRODUCT(CE37,C37) -> 0 | CJ37: =PRODUCT(CD37,C37) -> 0
B38: под заказ | C38: 0 | D38: 1880 | E38: 1790 | F38: 1700 | G38: =Лист2!M38 -> 0 | I38: Стоимость доставки до Вашего города оплачивается получателем | CD38: 4 | CE38: =PRODUCT(CF38,CG38,CH38) -> 0.0312 | CF38: 1.2 | CG38: 0.2 | CH38: 0.13 | CI38: =PRODUCT(CE38,C38) -> 0 | CJ38: =PRODUCT(CD38,C38) -> 0
C39: 0 | G39: =Лист2!M39 -> 0 | CD39: 0 | CE39: =PRODUCT(CF39,CG39,CH39) -> 0 | CI39: =PRODUCT(CE39,C39) -> 0 | CJ39: =PRODUCT(CD39,C39) -> 0
A40: Березка_12, наклон | B40: 1,2-1,3м | C40: 0 | D40: 1900 | E40: 1800 | F40: =D40*0.9 -> 1710 | G40: =Лист2!M40 -> 0 | CD40: 4 | CE40: =PRODUCT(CF40,CG40,CH40) -> 0.0312 | CF40: 1.2 | CG40: 0.2 | CH40: 0.13 | CI40: =PRODUCT(CE40,C40) -> 0 | CJ40: =PRODUCT(CD40,C40) -> 0
...

Sheet Лист2
G4: 15000 | I4: 25000 | K4: 50000
G5: =PRODUCT(Лист1!D5,Лист1!C5) -> 0 | H5: =IF(I266<25000,1,0) -> 1 | I5: =PRODUCT(Лист1!C5,Лист1!E5) -> 0 | J5: =IF(AND(G268=0,K266<50000),1,0) -> 0 | K5: =PRODUCT(Лист1!C5,Лист1!F5) -> 0 | L5: =IF(AND(I268=0,G268=0),1,0) -> 0 | M5: =G5*H5+I5*J5+K5*L5 -> 0
G6: =PRODUCT(Лист1!D6,Лист1!C6) -> 0 | H6: =IF(I266<25000,1,0) -> 1 | I6: =PRODUCT(Лист1!C6,Лист1!E6) -> 0 | J6: =IF(AND(G268=0,K266<50000),1,0) -> 0 | K6: =PRODUCT(Лист1!C6,Лист1!F6) -> 0 | L6: =IF(AND(I268=0,G268=0),1,0) -> 0 | M6: =G6*H6+I6*J6+K6*L6 -> 0
G7: =PRODUCT(Лист1!D7,Лист1!C7) -> 0 | H7: =IF(I266<25000,1,0) -> 1 | I7: =PRODUCT(Лист1!C7,Лист1!E7) -> 0 | J7: =IF(AND(G268=0,K266<50000),1,0) -> 0 | K7: =PRODUCT(Лист1!C7,Лист1!F7) -> 0 | L7: =IF(AND(I268=0,G268=0),1,0) -> 0 | M7: =G7*H7+I7*J7+K7*L7 -> 0
G8: =PRODUCT(Лист1!D8,Лист1!C8) -> 0 | H8: =IF(I266<25000,1,0) -> 1 | I8: =PRODUCT(Лист1!C8,Лист1!E8) -> 0 | J8: =IF(AND(G268=0,K266<50000),1,0) -> 0 | K8: =PRODUCT(Лист1!C8,Лист1!F8) -> 0 | L8: =IF(AND(I268=0,G268=0),1,0) -> 0 | M8: =G8*H8+I8*J8+K8*L8 -> 0
G9: =PRODUCT(Лист1!D9,Лист1!C9) -> 0 | H9: =IF(I266<25000,1,0) -> 1 | I9: =PRODUCT(Лист1!C9,Лист1!E9) -> 0 | J9: =IF(AND(G268=0,K266<50000),1,0) -> 0 | K9: =PRODUCT(Лист1!C9,Лист1!F9) -> 0 | L9: =IF(AND(I268=0,G268=0),1,0) -> 0 | M9: =G9*H9+I9*J9+K9*L9 -> 0
G10: =PRODUCT(Лист1!D10,Лист1!C10) -> 0 | H10: =IF(I266<25000,1,0) -> 1 | I10: =PRODUCT(Лист1!C10,Лист1!E10) -> 0 | J10: =IF(AND(G268=0,K266<50000),1,0) -> 0 | K10: =PRODUCT(Лист1!C10,Лист1!F10) -> 0 | L10: =IF(AND(I268=0,G268=0),1,0) -> 0 | M10: =G10*H10+I10*J10+K10*L10 -> 0
G11: =PRODUCT(Лист1!D11,Лист1!C11) -> 0 | H11: =IF(I266<25000,1,0) -> 1 | I11: =PRODUCT(Лист1!C11,Лист1!E11) -> 0 | J11: =IF(AND(G268=0,K266<50000),1,0) -> 0 | K11: =PRODUCT(Лист1!C11,Лист1!F11) -> 0 | L11: =IF(AND(I268=0,G268=0),1,0) -> 0 | M11: =G11*H11+I11*J11+K11*L11 -> 0
G12: =PRODUCT(Лист1!D12,Лист1!C12) -> 0 | H12: =IF(I266<25000,1,0) -> 1 | I12: =PRODUCT(Лист1!C12,Лист1!E12) -> 0 | J12: =IF(AND(G268=0,K266<50000),1,0) -> 0 | K12: =PRODUCT(Лист1!C12,Лист1!F12) -> 0 | L12: =IF(AND(I268=0,G268=0),1,0) -> 0 | M12: =G12*H12+I12*J12+K12*L12 -> 0
G13: =PRODUCT(Лист1!D13,Лист1!C13) -> 0 | H13: =IF(I266<25000,1,0) -> 1 | I13: =PRODUCT(Лист1!C13,Лист1!E13) -> 0 | J13: =IF(AND(G268=0,K266<50000),1,0) -> 0 | K13: =PRODUCT(Лист1!C13,Лист1!F13) -> 0 | L13: =IF(AND(I268=0,G268=0),1,0) -> 0 | M13: =G13*H13+I13*J13+K13*L13 -> 0
G14: =PRODUCT(Лист1!D14,Лист1!C14) -> 0 | H14: =IF(I266<25000,1,0) -> 1 | I14: =PRODUCT(Лист1!C14,Лист1!E14) -> 0 | J14: =IF(AND(G268=0,K266<50000),1,0) -> 0 | K14: =PRODUCT(Лист1!C14,Лист1!F14) -> 0 | L14: =IF(AND(I268=0,G268=0),1,0) -> 0 | M14: =G14*H14+I14*J14+K14*L14 -> 0
G15: =PRODUCT(Лист1!D15,Лист1!C15) -> 0 | H15: =IF(I266<25000,1,0) -> 1 | I15: =PRODUCT(Лист1!C15,Лист1!E15) -> 0 | J15: =IF(AND(G268=0,K266<50000),1,0) -> 0 | K15: =PRODUCT(Лист1!C15,Лист1!F15) -> 0 | L15: =IF(AND(I268=0,G268=0),1,0) -> 0 | M15: =G15*H15+I15*J15+K15*L15 -> 0
G16: =PRODUCT(Лист1!D16,Лист1!C16) -> 0 | H16: =IF(I266<25000,1,0) -> 1 | I16: =PRODUCT(Лист1!C16,Лист1!E16) -> 0 | J16: =IF(AND(G268=0,K266<50000),1,0) -> 0 | K16: =PRODUCT(Лист1!C16,Лист1!F16) -> 0 | L16: =IF(AND(I268=0,G268=0),1,0) -> 0 | M16: =G16*H16+I16*J16+K16*L16 -> 0
G17: =PRODUCT(Лист1!D17,Лист1!C17) -> 0 | H17: =IF(I266<25000,1,0) -> 1 | I17: =PRODUCT(Лист1!C17,Лист1!E17) -> 0 | J17: =IF(AND(G268=0,K266<50000),1,0) -> 0 | K17: =PRODUCT(Лист1!C17,Лист1!F17) -> 0 | L17: =IF(AND(I268=0,G268=0),1,0) -> 0 | M17: =G17*H17+I17*J17+K17*L17 -> 0
G18: =PRODUCT(Лист1!D18,Лист1!C18) -> 0 | H18: =IF(I266<25000,1,0) -> 1 | I18: =PRODUCT(Лист1!C18,Лист1!E18) -> 0 | J18: =IF(AND(G268=0,K266<50000),1,0) -> 0 | K18: =PRODUCT(Лист1!C18,Лист1!F18) -> 0 | L18: =IF(AND(I268=0,G268=0),1,0) -> 0 | M18: =G18*H18+I18*J18+K18*L18 -> 0
G19: =PRODUCT(Лист1!D19,Лист1!C19) -> 0 | H19: =IF(I266<25000,1,0) -> 1 | I19: =PRODUCT(Лист1!C19,Лист1!E19) -> 0 | J19: =IF(AND(G268=0,K266<50000),1,0) -> 0 | K19: =PRODUCT(Лист1!C19,Лист1!F19) -> 0 | L19: =IF(AND(I268=0,G268=0),1,0) -> 0 | M19: =G19*H19+I19*J19+K19*L19 -> 0
G20: =PRODUCT(Лист1!D20,Лист1!C20) -> 0 | H20: =IF(I266<25000,1,0) -> 1 | I20: =PRODUCT(Лист1!C20,Лист1!E20) -> 0 | J20: =IF(AND(G268=0,K266<50000),1,0) -> 0 | K20: =PRODUCT(Лист1!C20,Лист1!F20) -> 0 | L20: =IF(AND(I268=0,G268=0),1,0) -> 0 | M20: =G20*H20+I20*J20+K20*L20 -> 0
G21: =PRODUCT(Лист1!D21,Лист1!C21) -> 0 | H21: =IF(I266<25000,1,0) -> 1 | I21: =PRODUCT(Лист1!C21,Лист1!E21) -> 0 | J21: =IF(AND(G268=0,K266<50000),1,0) -> 0 | K21: =PRODUCT(Лист1!C21,Лист1!F21) -> 0 | L21: =IF(AND(I268=0,G268=0),1,0) -> 0 | M21: =G21*H21+I21*J21+K21*L21 -> 0
G22: =PRODUCT(Лист1!D22,Лист1!C22) -> 0 | H22: =IF(I266<25000,1,0) -> 1 | I22: =PRODUCT(Лист1!C22,Лист1!E22) -> 0 | J22: =IF(AND(G268=0,K266<50000),1,0) -> 0 | K22: =PRODUCT(Лист1!C22,Лист1!F22) -> 0 | L22: =IF(AND(I268=0,G268=0),1,0) -> 0 | M22: =G22*H22+I22*J22+K22*L22 -> 0
G23: =PRODUCT(Лист1!D23,Лист1!C23) -> 0 | H23: =IF(I266<25000,1,0) -> 1 | I23: =PRODUCT(Лист1!C23,Лист1!E23) -> 0 | J23: =IF(AND(G268=0,K266<50000),1,0) -> 0 | K23: =PRODUCT(Лист1!C23,Лист1!F23) -> 0 | L23: =IF(AND(I268=0,G268=0),1,0) -> 0 | M23: =G23*H23+I23*J23+K23*L23 -> 0
G24: =PRODUCT(Лист1!D24,Лист1!C24) -> 0 | H24: =IF(I266<25000,1,0) -> 1 | I24: =PRODUCT(Лист1!C24,Лист1!E24) -> 0 | J24: =IF(AND(G268=0,K266<50000),1,0) -> 0 | K24: =PRODUCT(Лист1!C24,Лист1!F24) -> 0 | L24: =IF(AND(I268=0,G268=0),1,0) -> 0 | M24: =G24*H24+I24*J24+K24*L24 -> 0
G25: =PRODUCT(Лист1!D25,Лист1!C25) -> 0 | H25: =IF(I266<25000,1,0) -> 1 | I25: =PRODUCT(Лист1!C25,Лист1!E25) -> 0 | J25: =IF(AND(G268=0,K266<50000),1,0) -> 0 | K25: =PRODUCT(Лист1!C25,Лист1!F25) -> 0 | L25: =IF(AND(I268=0,G268=0),1,0) -> 0 | M25: =G25*H25+I25*J25+K25*L25 -> 0
G26: =PRODUCT(Лист1!D26,Лист1!C26) -> 0 | H26: =IF(I266<25000,1,0) -> 1 | I26: =PRODUCT(Лист1!C26,Лист1!E26) -> 0 | J26: =IF(AND(G268=0,K266<50000),1,0) -> 0 | K26: =PRODUCT(Лист1!C26,Лист1!F26) -> 0 | L26: =IF(AND(I268=0,G268=0),1,0) -> 0 | M26: =G26*H26+I26*J26+K26*L26 -> 0
G27: =PRODUCT(Лист1!D27,Лист1!C27) -> 0 | H27: =IF(I266<25000,1,0) -> 1 | I27: =PRODUCT(Лист1!C27,Лист1!E27) -> 0 | J27: =IF(AND(G268=0,K266<50000),1,0) -> 0 | K27: =PRODUCT(Лист1!C27,Лист1!F27) -> 0 | L27: =IF(AND(I268=0,G268=0),1,0) -> 0 | M27: =G27*H27+I27*J27+K27*L27 -> 0
G28: =PRODUCT(Лист1!D28,Лист1!C28) -> 0 | H28: =IF(I266<25000,1,0) -> 1 | I28: =PRODUCT(Лист1!C28,Лист1!E28) -> 0 | J28: =IF(AND(G268=0,K266<50000),1,0) -> 0 | K28: =PRODUCT(Лист1!C28,Лист1!F28) -> 0 | L28: =IF(AND(I268=0,G268=0),1,0) -> 0 | M28: =G28*H28+I28*J28+K28*L28 -> 0
G29: =PRODUCT(Лист1!D29,Лист1!C29) -> 0 | H29: =IF(I266<25000,1,0) -> 1 | I29: =PRODUCT(Лист1!C29,Лист1!E29) -> 0 | J29: =IF(AND(G268=0,K266<50000),1,0) -> 0 | K29: =PRODUCT(Лист1!C29,Лист1!F29) -> 0 | L29: =IF(AND(I268=0,G268=0),1,0) -> 0 | M29: =G29*H29+I29*J29+K29*L29 -> 0
G30: =PRODUCT(Лист1!D30,Лист1!C30) -> 0 | H30: =IF(I266<25000,1,0) -> 1 | I30: =PRODUCT(Лист1!C30,Лист1!E30) -> 0 | J30: =IF(AND(G268=0,K266<50000),1,0) -> 0 | K30: =PRODUCT(Лист1!C30,Лист1!F30) -> 0 | L30: =IF(AND(I268=0,G268=0),1,0) -> 0 | M30: =G30*H30+I30*J30+K30*L30 -> 0
G31: =PRODUCT(Лист1!D31,Лист1!C31) -> 0 | H31: =IF(I266<25000,1,0) -> 1 | I31: =PRODUCT(Лист1!C31,Лист1!E31) -> 0 | J31: =IF(AND(G268=0,K266<50000),1,0) -> 0 | K31: =PRODUCT(Лист1!C31,Лист1!F31) -> 0 | L31: =IF(AND(I268=0,G268=0),1,0) -> 0 | M31: =G31*H31+I31*J31+K31*L31 -> 0
G32: =PRODUCT(Лист1!D32,Лист1!C32) -> 0 | H32: =IF(I266<25000,1,0) -> 1 | I32: =PRODUCT(Лист1!C32,Лист1!E32) -> 0 | J32: =IF(AND(G268=0,K266<50000),1,0) -> 0 | K32: =PRODUCT(Лист1!C32,Лист1!F32) -> 0 | L32: =IF(AND(I268=0,G268=0),1,0) -> 0 | M32: =G32*H32+I32*J32+K32*L32 -> 0
G33: =PRODUCT(Лист1!D33,Лист1!C33) -> 0 | H33: =IF(I266<25000,1,0) -> 1 | I33: =PRODUCT(Лист1!C33,Лист1!E33) -> 0 | J33: =IF(AND(G268=0,K266<50000),1,0) -> 0 | K33: =PRODUCT(Лист1!C33,Лист1!F33) -> 0 | L33: =IF(AND(I268=0,G268=0),1,0) -> 0 | M33: =G33*H33+I33*J33+K33*L33 -> 0
G34: =PRODUCT(Лист1!D34,Лист1!C34) -> 0 | H34: =IF(I266<25000,1,0) -> 1 | I34: =PRODUCT(Лист1!C34,Лист1!E34) -> 0 | J34: =IF(AND(G268=0,K266<50000),1,0) -> 0 | K34: =PRODUCT(Лист1!C34,Лист1!F34) -> 0 | L34: =IF(AND(I268=0,G268=0),1,0) -> 0 | M34: =G34*H34+I34*J34+K34*L34 -> 0
G35: =PRODUCT(Лист1!D35,Лист1!C35) -> 0 | H35: =IF(I266<25000,1,0) -> 1 | I35: =PRODUCT(Лист1!C35,Лист1!E35) -> 0 | J35: =IF(AND(G268=0,K266<50000),1,0) -> 0 | K35: =PRODUCT(Лист1!C35,Лист1!F35) -> 0 | L35: =IF(AND(I268=0,G268=0),1,0) -> 0 | M35: =G35*H35+I35*J35+K35*L35 -> 0
G36: =PRODUCT(Лист1!D36,Лист1!C36) -> 0 | H36: =IF(I266<25000,1,0) -> 1 | I36: =PRODUCT(Лист1!C36,Лист1!E36) -> 0 | J36: =IF(AND(G268=0,K266<50000),1,0) -> 0 | K36: =PRODUCT(Лист1!C36,Лист1!F36) -> 0 | L36: =IF(AND(I268=0,G268=0),1,0) -> 0 | M36: =G36*H36+I36*J36+K36*L36 -> 0
G37: =PRODUCT(Лист1!D37,Лист1!C37) -> 0 | H37: =IF(I266<25000,1,0) -> 1 | I37: =PRODUCT(Лист1!C37,Лист1!E37) -> 0 | J37: =IF(AND(G268=0,K266<50000),1,0) -> 0 | K37: =PRODUCT(Лист1!C37,Лист1!F37) -> 0 | L37: =IF(AND(I268=0,G268=0),1,0) -> 0 | M37: =G37*H37+I37*J37+K37*L37 -> 0
G38: =PRODUCT(Лист1!D38,Лист1!C38) -> 0 | H38: =IF(I266<25000,1,0) -> 1 | I38: =PRODUCT(Лист1!C38,Лист1!E38) -> 0 | J38: =IF(AND(G268=0,K266<50000),1,0) -> 0 | K38: =PRODUCT(Лист1!C38,Лист1!F38) -> 0 | L38: =IF(AND(I268=0,G268=0),1,0) -> 0 | M38: =G38*H38+I38*J38+K38*L38 -> 0
G39: =PRODUCT(Лист1!D39,Лист1!C39) -> 0 | H39: =IF(I266<25000,1,0) -> 1 | I39: =PRODUCT(Лист1!C39,Лист1!E39) -> 0 | J39: =IF(AND(G268=0,K266<50000),1,0) -> 0 | K39: =PRODUCT(Лист1!C39,Лист1!F39) -> 0 | L39: =IF(AND(I268=0,G268=0),1,0) -> 0 | M39: =G39*H39+I39*J39+K39*L39 -> 0
G40: =PRODUCT(Лист1!D40,Лист1!C40) -> 0 | H40: =IF(I266<25000,1,0) -> 1 | I40: =PRODUCT(Лист1!C40,Лист1!E40) -> 0 | J40: =IF(AND(G268=0,K266<50000),1,0) -> 0 | K40: =PRODUCT(Лист1!C40,Лист1!F40) -> 0 | L40: =IF(AND(I268=0,G268=0),1,0) -> 0 | M40: =G40*H40+I40*J40+K40*L40 -> 0
G41: =PRODUCT(Лист1!D41,Лист1!C41) -> 0 | H41: =IF(I266<25000,1,0) -> 1 | I41: =PRODUCT(Лист1!C41,Лист1!E41) -> 0 | J41: =IF(AND(G268=0,K266<50000),1,0) -> 0 | K41: =PRODUCT(Лист1!C41,Лист1!F41) -> 0 | L41: =IF(AND(I268=0,G268=0),1,0) -> 0 | M41: =G41*H41+I41*J41+K41*L41 -> 0
G42: =PRODUCT(Лист1!D42,Лист1!C42) -> 0 | H42: =IF(I266<25000,1,0) -> 1 | I42: =PRODUCT(Лист1!C42,Лист1!E42) -> 0 | J42: =IF(AND(G268=0,K266<50000),1,0) -> 0 | K42: =PRODUCT(Лист1!C42,Лист1!F42) -> 0 | L42: =IF(AND(I268=0,G268=0),1,0) -> 0 | M42: =G42*H42+I42*J42+K42*L42 -> 0
G43: =PRODUCT(Лист1!D43,Лист1!C43) -> 0 | H43: =IF(I266<25000,1,0) -> 1 | I43: =PRODUCT(Лист1!C43,Лист1!E43) -> 0 | J43: =IF(AND(G268=0,K266<50000),1,0) -> 0 | K43: =PRODUCT(Лист1!C43,Лист1!F43) -> 0 | L43: =IF(AND(I268=0,G268=0),1,0) -> 0 | M43: =G43*H43+I43*J43+K43*L43 -> 0
...

Sheet Лист3
